BEGIN:VCALENDAR
VERSION:2.0
PRODID:-//Events | FID-Recht//NONSGML Events//EN
CALSCALE:GREGORIAN
X-ORIGINAL-URL:https://events.intrecht.de/termine/
X-WR-CALDESC:Events | FID-Recht - Events
BEGIN:VEVENT
UID:20221018T1614Z-1666109682.5968-EO-6831-1@172.16.200.151
STATUS:CONFIRMED
DTSTAMP:20260422T143420Z
CREATED:20221017T105600Z
LAST-MODIFIED:20221017T105600Z
DTSTART;VALUE=DATE:20221031
DTEND;VALUE=DATE:20221101
SUMMARY: Rechtshistorisches Abendgespräch: The law of the sea: oceans\, shi
 ps and the anthropocene
DESCRIPTION: 31.10.2022 / Frankfurt am Main https://www.lhlt.mpg.de/events/
 32529/2368  
X-ALT-DESC;FMTTYPE=text/html: <p>31.10.2022 / Frankfurt am Main</p><p><a hr
 ef="https://www.lhlt.mpg.de/events/32529/2368">https://www.lhlt.mpg.de/even
 ts/32529/2368</a></p><p> </p><p>[av_button label='iCal-Export' link='./feed
 /eo-events' link_target='' size='small' position='center' label_display='' 
 title_attr='' icon_select='yes' icon='ue85b' font='entypo-fontello' color='
 custom' custom_bg='#b5123e' custom_font='#ffffff' av_uid='' id='' custom_cl
 ass='' admin_preview_bg='']</p>
CATEGORIES:Recht interdisziplinär
LOCATION:Inland
GEO:0.000000;0.000000
ORGANIZER;CN="ViFa-Recht":MAILTO:vifa-recht@sbb.spk-berlin.de
URL;VALUE=URI:https://events.intrecht.de/termine/termin/rechtshistorisches-
 abendgespraech-the-law-of-the-sea-oceans-ships-and-the-anthropocene/
END:VEVENT
BEGIN:VTIMEZONE
TZID:Europe/Berlin
BEGIN:DAYLIGHT
TZOFFSETFROM:+0100
TZOFFSETTO:+0200
DTSTART:20220327T010000
TZNAME:CEST
END:DAYLIGHT
BEGIN:STANDARD
TZOFFSETFROM:+0200
TZOFFSETTO:+0100
DTSTART:20221030T010000
TZNAME:CET
END:STANDARD
END:VTIMEZONE
END:VCALENDAR
