BEGIN:VCALENDAR
VERSION:2.0
PRODID:-//Events | FID-Recht//NONSGML Events//EN
CALSCALE:GREGORIAN
X-ORIGINAL-URL:https://events.intrecht.de/termine/
X-WR-CALDESC:Events | FID-Recht - Events
BEGIN:VEVENT
UID:20200709T1345Z-1594302352.3897-EO-1201-1@172.16.200.141
STATUS:CONFIRMED
DTSTAMP:20260421T115341Z
CREATED:20200708T175709Z
LAST-MODIFIED:20200708T175709Z
DTSTART;VALUE=DATE:20200907
DTEND;VALUE=DATE:20200908
SUMMARY: Rechtshistorikertag – Forum der Jungen (Webinar)
DESCRIPTION: 7.9.2020\, Online https://forhistiur.de/news/2020-07-01-rechts
 historikertag-forum-der-jungen/  
X-ALT-DESC;FMTTYPE=text/html: <p>7.9.2020\, Online</p><p><a href="https://f
 orhistiur.de/news/2020-07-01-rechtshistorikertag-forum-der-jungen/">https:/
 /forhistiur.de/news/2020-07-01-rechtshistorikertag-forum-der-jungen/</a></p
 ><p> </p><p>[av_button label='iCal-Export' link='./feed/eo-events' link_tar
 get='' size='small' position='center' label_display='' title_attr='' icon_s
 elect='yes' icon='ue85b' font='entypo-fontello' color='custom' custom_bg='#
 b5123e' custom_font='#ffffff' av_uid='' id='' custom_class='' admin_preview
 _bg='']</p>
CATEGORIES:Recht interdisziplinär
LOCATION:Online
GEO:0.000000;0.000000
ORGANIZER;CN="ViFa-Recht":MAILTO:vifa-recht@sbb.spk-berlin.de
URL;VALUE=URI:https://events.intrecht.de/termine/termin/rechtshistorikertag
 -forum-der-jungen-webinar/
END:VEVENT
BEGIN:VTIMEZONE
TZID:Europe/Berlin
BEGIN:DAYLIGHT
TZOFFSETFROM:+0100
TZOFFSETTO:+0200
DTSTART:20200329T010000
TZNAME:CEST
END:DAYLIGHT
END:VTIMEZONE
END:VCALENDAR
