BEGIN:VCALENDAR
VERSION:2.0
PRODID:-//Events | FID-Recht//NONSGML Events//EN
CALSCALE:GREGORIAN
X-ORIGINAL-URL:https://events.intrecht.de/termine/
X-WR-CALDESC:Events | FID-Recht - Events
BEGIN:VEVENT
UID:20200603T1418Z-1591193923.3362-EO-587-1@172.16.200.141
STATUS:CONFIRMED
DTSTAMP:20260422T090827Z
CREATED:20240119T173922Z
LAST-MODIFIED:20240119T174107Z
DTSTART;VALUE=DATE:20240927
DTEND;VALUE=DATE:20240929
SUMMARY: Rechtsfragen virtueller Welten (JuWissDay 2024)
DESCRIPTION: 27.-28.9.2024 / Speyer (Einreichungsfrist: 27.3.2024) https://
 www.foev-speyer.de/fileadmin/Foev/Veranstaltungen/CfP_final.pdf
X-ALT-DESC;FMTTYPE=text/html: <p>27.-28.9.2024 / Speyer <strong>(Einreichun
 gsfrist: 27.3.2024)</strong></p><p><a href="https://www.foev-speyer.de/file
 admin/Foev/Veranstaltungen/CfP_final.pdf">https://www.foev-speyer.de/filead
 min/Foev/Veranstaltungen/CfP_final.pdf</a></p><p>[av_button label='iCal-Exp
 ort' link='./feed/eo-events' link_target='' size='small' position='center' 
 label_display='' title_attr='' icon_select='yes' icon='ue85b' font='entypo-
 fontello' color='custom' custom_bg='#b5123e' custom_font='#ffffff' av_uid='
 ' id='' custom_class='' admin_preview_bg='']</p>
CATEGORIES:Recht interdisziplinär
LOCATION:Inland
GEO:0.000000;0.000000
ORGANIZER;CN="ViFa-Recht":MAILTO:vifa-recht@sbb.spk-berlin.de
URL;VALUE=URI:https://events.intrecht.de/termine/termin/rechtsfragen-virtue
 ller-welten-juwissday-2024/
END:VEVENT
BEGIN:VTIMEZONE
TZID:Europe/Berlin
BEGIN:DAYLIGHT
TZOFFSETFROM:+0100
TZOFFSETTO:+0200
DTSTART:20240331T010000
TZNAME:CEST
END:DAYLIGHT
END:VTIMEZONE
END:VCALENDAR
