BEGIN:VCALENDAR
VERSION:2.0
PRODID:-//Events | FID-Recht//NONSGML Events//EN
CALSCALE:GREGORIAN
X-ORIGINAL-URL:https://events.intrecht.de/termine/
X-WR-CALDESC:Events | FID-Recht - Events
BEGIN:VEVENT
UID:20200603T1418Z-1591193923.3362-EO-587-1@172.16.200.141
STATUS:CONFIRMED
DTSTAMP:20260425T132605Z
CREATED:20231108T095342Z
LAST-MODIFIED:20231108T095342Z
DTSTART;VALUE=DATE:20231123
DTEND;VALUE=DATE:20231124
SUMMARY: Rechtsextremismus\, Recht und Justiz / Perspektiven auf den Halle-
 Prozess (Paneldiskussion / Ringvorlesung an der Humboldt-Universität zu Ber
 lin)
DESCRIPTION: 23.11.2023 / Berlin https://www.gesichtzeigen.de/united-ringvo
 rlesung-5/
X-ALT-DESC;FMTTYPE=text/html: <p>23.11.2023 / Berlin</p><p><a href="https:/
 /www.gesichtzeigen.de/united-ringvorlesung-5/">https://www.gesichtzeigen.de
 /united-ringvorlesung-5/</a></p><p>[av_button label='iCal-Export' link='./f
 eed/eo-events' link_target='' size='small' position='center' label_display=
 '' title_attr='' icon_select='yes' icon='ue85b' font='entypo-fontello' colo
 r='custom' custom_bg='#b5123e' custom_font='#ffffff' av_uid='' id='' custom
 _class='' admin_preview_bg='']</p>
CATEGORIES:Strafrecht
LOCATION:Inland
GEO:0.000000;0.000000
ORGANIZER;CN="ViFa-Recht":MAILTO:vifa-recht@sbb.spk-berlin.de
URL;VALUE=URI:https://events.intrecht.de/termine/termin/rechtsextremismus-r
 echt-und-justiz-perspektiven-auf-den-halle-prozess-paneldiskussion-ringvorl
 esung-an-der-humboldt-universitaet-zu-berlin/
END:VEVENT
BEGIN:VTIMEZONE
TZID:Europe/Berlin
BEGIN:STANDARD
TZOFFSETFROM:+0200
TZOFFSETTO:+0100
DTSTART:20231029T010000
TZNAME:CET
END:STANDARD
END:VTIMEZONE
END:VCALENDAR
