BEGIN:VCALENDAR
VERSION:2.0
PRODID:-//Events | FID-Recht//NONSGML Events//EN
CALSCALE:GREGORIAN
X-ORIGINAL-URL:https://events.intrecht.de/termine/
X-WR-CALDESC:Events | FID-Recht - Events
BEGIN:VEVENT
UID:20200603T1418Z-1591193923.3362-EO-587-1@172.16.200.141
STATUS:CONFIRMED
DTSTAMP:20260425T164828Z
CREATED:20231129T162724Z
LAST-MODIFIED:20231129T162724Z
DTSTART;VALUE=DATE:20240118
DTEND;VALUE=DATE:20240119
SUMMARY: Rechtsextremismus\, Recht und Justiz / Juristischer Umgang mit Bet
 roffenen rechter Gewalt (Vortrag / Ringvorlesung an der Humboldt-Universitä
 t zu Berlin)
DESCRIPTION: 18.1.2024 / Berlin https://www.gesichtzeigen.de/united-ringvor
 lesung-8/
X-ALT-DESC;FMTTYPE=text/html: <p>18.1.2024 / Berlin</p><p><a href="https://
 www.gesichtzeigen.de/united-ringvorlesung-8/">https://www.gesichtzeigen.de/
 united-ringvorlesung-8/</a></p><p>[av_button label='iCal-Export' link='./fe
 ed/eo-events' link_target='' size='small' position='center' label_display='
 ' title_attr='' icon_select='yes' icon='ue85b' font='entypo-fontello' color
 ='custom' custom_bg='#b5123e' custom_font='#ffffff' av_uid='' id='' custom_
 class='' admin_preview_bg='']</p>
CATEGORIES:Recht interdisziplinär
LOCATION:Inland
GEO:0.000000;0.000000
ORGANIZER;CN="ViFa-Recht":MAILTO:vifa-recht@sbb.spk-berlin.de
URL;VALUE=URI:https://events.intrecht.de/termine/termin/rechtsextremismus-r
 echt-und-justiz-juristischer-umgang-mit-betroffenen-rechter-gewalt-vortrag-
 ringvorlesung-an-der-humboldt-universitaet-zu-berlin/
END:VEVENT
BEGIN:VTIMEZONE
TZID:Europe/Berlin
BEGIN:STANDARD
TZOFFSETFROM:+0200
TZOFFSETTO:+0100
DTSTART:20231029T010000
TZNAME:CET
END:STANDARD
END:VTIMEZONE
END:VCALENDAR
