BEGIN:VCALENDAR
VERSION:2.0
PRODID:-//Events | FID-Recht//NONSGML Events//EN
CALSCALE:GREGORIAN
X-ORIGINAL-URL:https://events.intrecht.de/termine/
X-WR-CALDESC:Events | FID-Recht - Events
BEGIN:VEVENT
UID:20220118T1726Z-1642526793.6508-EO-5008-1@172.16.200.141
STATUS:CONFIRMED
DTSTAMP:20260425T164918Z
CREATED:20220114T171441Z
LAST-MODIFIED:20220114T171441Z
DTSTART;VALUE=DATE:20220122
DTEND;VALUE=DATE:20220123
SUMMARY: Rechtlosigkeit im Rechtsstaat (Online-Tagung)
DESCRIPTION: 28.1.2022\, Fribourg (Anmeldefrist: 22.1.2022) Rechtlosigkeit 
 im Rechtsstaat | H-Soz-Kult. Kommunikation und Fachinformation für die Gesc
 hichtswissenschaften | Geschichte im Netz | History in the web (hsozkult.de
 )  
X-ALT-DESC;FMTTYPE=text/html: <p>28.1.2022\, Fribourg (Anmeldefrist: 22.1.2
 022)</p><p><a href="https://www.hsozkult.de/event/id/event-115002">Rechtlos
 igkeit im Rechtsstaat | H-Soz-Kult. Kommunikation und Fachinformation für d
 ie Geschichtswissenschaften | Geschichte im Netz | History in the web (hsoz
 kult.de)</a></p><p> </p><p>[av_button label='iCal-Export' link='./feed/eo-e
 vents' link_target='' size='small' position='center' label_display='' title
 _attr='' icon_select='yes' icon='ue85b' font='entypo-fontello' color='custo
 m' custom_bg='#b5123e' custom_font='#ffffff' av_uid='' id='' custom_class='
 ' admin_preview_bg='']</p>
CATEGORIES:Recht interdisziplinär
LOCATION:Ausland
GEO:0.000000;0.000000
ORGANIZER;CN="ViFa-Recht":MAILTO:vifa-recht@sbb.spk-berlin.de
URL;VALUE=URI:https://events.intrecht.de/termine/termin/rechtlosigkeit-im-r
 echtsstaat-online-tagung/
END:VEVENT
BEGIN:VTIMEZONE
TZID:Europe/Berlin
BEGIN:STANDARD
TZOFFSETFROM:+0200
TZOFFSETTO:+0100
DTSTART:20211031T010000
TZNAME:CET
END:STANDARD
END:VTIMEZONE
END:VCALENDAR
