BEGIN:VCALENDAR
VERSION:2.0
PRODID:-//Events | FID-Recht//NONSGML Events//EN
CALSCALE:GREGORIAN
X-ORIGINAL-URL:https://events.intrecht.de/termine/
X-WR-CALDESC:Events | FID-Recht - Events
BEGIN:VEVENT
UID:20201128T1623Z-1606580635.1861-EO-1291-1@172.16.200.141
STATUS:CONFIRMED
DTSTAMP:20260422T142937Z
CREATED:20200925T180313Z
LAST-MODIFIED:20200925T180313Z
DTSTART;VALUE=DATE:20201005
DTEND;VALUE=DATE:20201007
SUMMARY: Rechtliche und ethische Grundlagen zeithistorischer Forschung mit 
 Sozialdaten (Workshop)
DESCRIPTION: 5.-6.10.2020\, Bad Homburg vor der Höhe   https://www.hsozkult
 .de/event/id/event-93450  
X-ALT-DESC;FMTTYPE=text/html: <p>5.-6.10.2020\, Bad Homburg vor der Höhe</p
 ><p> </p><p><a href="https://www.hsozkult.de/event/id/event-93450">https://
 www.hsozkult.de/event/id/event-93450</a></p><p> </p><p>[av_button label='iC
 al-Export' link='./feed/eo-events' link_target='' size='small' position='ce
 nter' label_display='' title_attr='' icon_select='yes' icon='ue85b' font='e
 ntypo-fontello' color='custom' custom_bg='#b5123e' custom_font='#ffffff' av
 _uid='' id='' custom_class='' admin_preview_bg='']</p>
CATEGORIES:Recht interdisziplinär
LOCATION:Inland
GEO:0.000000;0.000000
ORGANIZER;CN="ViFa-Recht":MAILTO:vifa-recht@sbb.spk-berlin.de
URL;VALUE=URI:https://events.intrecht.de/termine/termin/rechtliche-und-ethi
 sche-grundlagen-zeithistorischer-forschung-mit-sozialdaten-workshop/
END:VEVENT
BEGIN:VTIMEZONE
TZID:Europe/Berlin
BEGIN:DAYLIGHT
TZOFFSETFROM:+0100
TZOFFSETTO:+0200
DTSTART:20200329T010000
TZNAME:CEST
END:DAYLIGHT
END:VTIMEZONE
END:VCALENDAR
