BEGIN:VCALENDAR
VERSION:2.0
PRODID:-//Events | FID-Recht//NONSGML Events//EN
CALSCALE:GREGORIAN
X-ORIGINAL-URL:https://events.intrecht.de/termine/
X-WR-CALDESC:Events | FID-Recht - Events
BEGIN:VEVENT
UID:20200603T1418Z-1591193923.3362-EO-587-1@172.16.200.141
STATUS:CONFIRMED
DTSTAMP:20260425T151146Z
CREATED:20230412T143347Z
LAST-MODIFIED:20230412T143347Z
DTSTART;VALUE=DATE:20230506
DTEND;VALUE=DATE:20230507
SUMMARY: Rechter Populismus und Extremismus-Gefahr als Herausforderung für 
 die Demokratie (Vortrag)
DESCRIPTION: 6.5.2023 /Frankfurt am Main https://www.fritz-bauer-institut.d
 e/veranstaltungen/veranstaltung/rechter-populismus-und-extremismus-gefahr
X-ALT-DESC;FMTTYPE=text/html: <p>6.5.2023 /Frankfurt am Main</p><p><a href=
 "https://www.fritz-bauer-institut.de/veranstaltungen/veranstaltung/rechter-
 populismus-und-extremismus-gefahr">https://www.fritz-bauer-institut.de/vera
 nstaltungen/veranstaltung/rechter-populismus-und-extremismus-gefahr</a></p>
 <p>[av_button label='iCal-Export' link='./feed/eo-events' link_target='' si
 ze='small' position='center' label_display='' title_attr='' icon_select='ye
 s' icon='ue85b' font='entypo-fontello' color='custom' custom_bg='#b5123e' c
 ustom_font='#ffffff' av_uid='' id='' custom_class='' admin_preview_bg='']</
 p>
CATEGORIES:Recht interdisziplinär
LOCATION:Inland
GEO:0.000000;0.000000
ORGANIZER;CN="ViFa-Recht":MAILTO:vifa-recht@sbb.spk-berlin.de
URL;VALUE=URI:https://events.intrecht.de/termine/termin/rechter-populismus-
 und-extremismus-gefahr-als-herausforderung-fuer-die-demokratie-vortrag/
END:VEVENT
BEGIN:VTIMEZONE
TZID:Europe/Berlin
BEGIN:DAYLIGHT
TZOFFSETFROM:+0100
TZOFFSETTO:+0200
DTSTART:20230326T010000
TZNAME:CEST
END:DAYLIGHT
END:VTIMEZONE
END:VCALENDAR
