BEGIN:VCALENDAR
VERSION:2.0
PRODID:-//Events | FID-Recht//NONSGML Events//EN
CALSCALE:GREGORIAN
X-ORIGINAL-URL:https://events.intrecht.de/termine/
X-WR-CALDESC:Events | FID-Recht - Events
BEGIN:VEVENT
UID:20201221T2159Z-1608587988.5887-EO-2778-1@172.16.200.141
STATUS:CONFIRMED
DTSTAMP:20260421T184649Z
CREATED:20201221T145955Z
LAST-MODIFIED:20201221T145955Z
DTSTART;VALUE=DATE:20210111
DTEND;VALUE=DATE:20210111
SUMMARY: Recht und Politik in der Covid19-Krise: Woran krankt die französis
 che Demokratie? (mit Anne Jacquemet-Gauché) (Online-Vortrag)
DESCRIPTION: 11.1.2021\, Online https://www.rechtimkontext.de/veranstaltung
 en/veranstaltung/recht-und-politik-in-der-covid19-krise-woran-krankt-die-fr
 anzoesische-demokratie/  
X-ALT-DESC;FMTTYPE=text/html: <p>11.1.2021\, Online</p><p><a href="https://
 www.rechtimkontext.de/veranstaltungen/veranstaltung/recht-und-politik-in-de
 r-covid19-krise-woran-krankt-die-franzoesische-demokratie/">https://www.rec
 htimkontext.de/veranstaltungen/veranstaltung/recht-und-politik-in-der-covid
 19-krise-woran-krankt-die-franzoesische-demokratie/</a></p><p> </p><p>[av_b
 utton label='iCal-Export' link='./feed/eo-events' link_target='' size='smal
 l' position='center' label_display='' title_attr='' icon_select='yes' icon=
 'ue85b' font='entypo-fontello' color='custom' custom_bg='#b5123e' custom_fo
 nt='#ffffff' av_uid='' id='' custom_class='' admin_preview_bg='']</p>
CATEGORIES:Europäisches / Internationales Recht,Öffentliches Recht,Recht interdisziplinär
LOCATION:Online
GEO:0.000000;0.000000
ORGANIZER;CN="ViFa-Recht":MAILTO:vifa-recht@sbb.spk-berlin.de
URL;VALUE=URI:https://events.intrecht.de/termine/termin/recht-und-politik-i
 n-der-covid19-krise-woran-krankt-die-franzoesische-demokratie-mit-anne-jacq
 uemet-gauche-online-vortrag/
END:VEVENT
BEGIN:VTIMEZONE
TZID:Europe/Berlin
BEGIN:STANDARD
TZOFFSETFROM:+0200
TZOFFSETTO:+0100
DTSTART:20201025T010000
TZNAME:CET
END:STANDARD
END:VTIMEZONE
END:VCALENDAR
