BEGIN:VCALENDAR
VERSION:2.0
PRODID:-//Events | FID-Recht//NONSGML Events//EN
CALSCALE:GREGORIAN
X-ORIGINAL-URL:https://events.intrecht.de/termine/
X-WR-CALDESC:Events | FID-Recht - Events
BEGIN:VEVENT
UID:20200603T1418Z-1591193923.3362-EO-587-1@172.16.200.141
STATUS:CONFIRMED
DTSTAMP:20260423T091226Z
CREATED:20250407T135700Z
LAST-MODIFIED:20250407T135700Z
DTSTART;VALUE=DATE:20250612
DTEND;VALUE=DATE:20250615
SUMMARY: Recht und Krise – Zwischen Krisenrecht und Krise des Rechts (3. Ta
 gung des Jungen Netzwerks Rechtsgeschichte)
DESCRIPTION: 12.-14.6.2025 / Graz https://rewi-grundlagen.uni-graz.at/de/ta
 gung-junge-rechtsgeschichte/#c702811
X-ALT-DESC;FMTTYPE=text/html: <p>12.-14.6.2025 / Graz</p><p><a href="https:
 //rewi-grundlagen.uni-graz.at/de/tagung-junge-rechtsgeschichte/#c702811">ht
 tps://rewi-grundlagen.uni-graz.at/de/tagung-junge-rechtsgeschichte/#c702811
 </a></p><p>[av_button label='iCal-Export' link='./feed/eo-events' link_targ
 et='' size='small' position='center' label_display='' title_attr='' icon_se
 lect='yes' icon='ue85b' font='entypo-fontello' color='custom' custom_bg='#b
 5123e' custom_font='#ffffff' av_uid='' id='' custom_class='' admin_preview_
 bg='']</p>
CATEGORIES:Recht interdisziplinär
LOCATION:Ausland
GEO:0.000000;0.000000
ORGANIZER;CN="ViFa-Recht":MAILTO:vifa-recht@sbb.spk-berlin.de
URL;VALUE=URI:https://events.intrecht.de/termine/termin/recht-und-krise-zwi
 schen-krisenrecht-und-krise-des-rechts-3-tagung-des-jungen-netzwerks-rechts
 geschichte/
END:VEVENT
BEGIN:VTIMEZONE
TZID:Europe/Berlin
BEGIN:DAYLIGHT
TZOFFSETFROM:+0100
TZOFFSETTO:+0200
DTSTART:20250330T010000
TZNAME:CEST
END:DAYLIGHT
END:VTIMEZONE
END:VCALENDAR
