BEGIN:VCALENDAR
VERSION:2.0
PRODID:-//Events | FID-Recht//NONSGML Events//EN
CALSCALE:GREGORIAN
X-ORIGINAL-URL:https://events.intrecht.de/termine/
X-WR-CALDESC:Events | FID-Recht - Events
BEGIN:VEVENT
UID:20211206T0802Z-1638777751.1816-EO-4471-1@172.16.200.141
STATUS:CONFIRMED
DTSTAMP:20260422T143029Z
CREATED:20211126T224402Z
LAST-MODIFIED:20211126T224402Z
DTSTART;VALUE=DATE:20211202
DTEND;VALUE=DATE:20211203
SUMMARY: Recht und Diversität – Europäische und lateinamerikanischen Erfahr
 ungen in rechtshistorischer Perspektive – Privatrecht II (Online-Tagung)
DESCRIPTION: 2.12.2021\, Online Recht und Diversität: Privatrecht II | Max-
 Planck-Institut für Rechtsgeschichte und Rechtstheorie (mpg.de)  
X-ALT-DESC;FMTTYPE=text/html: <p>2.12.2021\, Online</p><p><a href="https://
 www.lhlt.mpg.de/2660692/event-21-12-02-law-and-diversity.html">Recht und Di
 versität: Privatrecht II | Max-Planck-Institut für Rechtsgeschichte und Rec
 htstheorie (mpg.de)</a></p><p> </p><p>[av_button label='iCal-Export' link='
 ./feed/eo-events' link_target='' size='small' position='center' label_displ
 ay='' title_attr='' icon_select='yes' icon='ue85b' font='entypo-fontello' c
 olor='custom' custom_bg='#b5123e' custom_font='#ffffff' av_uid='' id='' cus
 tom_class='' admin_preview_bg='']</p>
CATEGORIES:Recht interdisziplinär,Zivilrecht
LOCATION:Online
GEO:0.000000;0.000000
ORGANIZER;CN="ViFa-Recht":MAILTO:vifa-recht@sbb.spk-berlin.de
URL;VALUE=URI:https://events.intrecht.de/termine/termin/recht-und-diversita
 et-europaeische-und-lateinamerikanischen-erfahrungen-in-rechtshistorischer-
 perspektive-privatrecht-ii-online-tagung/
END:VEVENT
BEGIN:VTIMEZONE
TZID:Europe/Berlin
BEGIN:STANDARD
TZOFFSETFROM:+0200
TZOFFSETTO:+0100
DTSTART:20211031T010000
TZNAME:CET
END:STANDARD
END:VTIMEZONE
END:VCALENDAR
