BEGIN:VCALENDAR
VERSION:2.0
PRODID:-//Events | FID-Recht//NONSGML Events//EN
CALSCALE:GREGORIAN
X-ORIGINAL-URL:https://events.intrecht.de/termine/
X-WR-CALDESC:Events | FID-Recht - Events
BEGIN:VEVENT
UID:20220626T1244Z-1656247446.3763-EO-4289-1@172.16.200.151
STATUS:CONFIRMED
DTSTAMP:20260421T115342Z
CREATED:20220623T142026Z
LAST-MODIFIED:20220623T142026Z
DTSTART;VALUE=DATE:20220630
DTEND;VALUE=DATE:20220630
SUMMARY: Recht im Anthropozän (Tagung) (CfP)
DESCRIPTION: 3.-4.11.2022\, Frankfurt/Main (Frist für Einreichungen: 30.6.2
 022) Recht im Anthropozän – Völkerrechtsblog (voelkerrechtsblog.org)  
X-ALT-DESC;FMTTYPE=text/html: <p>3.-4.11.2022\, Frankfurt/Main (Frist für E
 inreichungen: 30.6.2022)</p><p><a href="https://voelkerrechtsblog.org/de/ca
 lls-for-papers/recht-im-anthropozan/">Recht im Anthropozän - Völkerrechtsbl
 og (voelkerrechtsblog.org)</a></p><p> </p><p>[av_button label='iCal-Export'
  link='./feed/eo-events' link_target='' size='small' position='center' labe
 l_display='' title_attr='' icon_select='yes' icon='ue85b' font='entypo-font
 ello' color='custom' custom_bg='#b5123e' custom_font='#ffffff' av_uid='' id
 ='' custom_class='' admin_preview_bg='']</p>
CATEGORIES:Recht interdisziplinär
LOCATION:Inland
GEO:0.000000;0.000000
ORGANIZER;CN="ViFa-Recht":MAILTO:vifa-recht@sbb.spk-berlin.de
URL;VALUE=URI:https://events.intrecht.de/termine/termin/recht-im-anthropoza
 en-tagung-cfp/
END:VEVENT
BEGIN:VTIMEZONE
TZID:Europe/Berlin
BEGIN:DAYLIGHT
TZOFFSETFROM:+0100
TZOFFSETTO:+0200
DTSTART:20220327T010000
TZNAME:CEST
END:DAYLIGHT
END:VTIMEZONE
END:VCALENDAR
