BEGIN:VCALENDAR
VERSION:2.0
PRODID:-//Events | FID-Recht//NONSGML Events//EN
CALSCALE:GREGORIAN
X-ORIGINAL-URL:https://events.intrecht.de/termine/
X-WR-CALDESC:Events | FID-Recht - Events
BEGIN:VEVENT
UID:20221001T2026Z-1664655992.2666-EO-6370-1@172.16.200.151
STATUS:CONFIRMED
DTSTAMP:20260421T133643Z
CREATED:20220929T081325Z
LAST-MODIFIED:20220929T081325Z
DTSTART;VALUE=DATE:20221103
DTEND;VALUE=DATE:20221105
SUMMARY: Recht im Anthropozän (Tagung)
DESCRIPTION: 3.-4.11.2022\, Frankfurt am Main https://www.lhlt.mpg.de/31642
 88/event-22-11-03-recht-im-anthropozaen  
X-ALT-DESC;FMTTYPE=text/html: <p>3.-4.11.2022\, Frankfurt am Main</p><p><a 
 href="https://www.lhlt.mpg.de/3164288/event-22-11-03-recht-im-anthropozaen"
 >https://www.lhlt.mpg.de/3164288/event-22-11-03-recht-im-anthropozaen</a></
 p><p> </p><p>[av_button label='iCal-Export' link='./feed/eo-events' link_ta
 rget='' size='small' position='center' label_display='' title_attr='' icon_
 select='yes' icon='ue85b' font='entypo-fontello' color='custom' custom_bg='
 #b5123e' custom_font='#ffffff' av_uid='' id='' custom_class='' admin_previe
 w_bg='']</p>
CATEGORIES:Recht interdisziplinär
LOCATION:Inland
GEO:0.000000;0.000000
ORGANIZER;CN="ViFa-Recht":MAILTO:vifa-recht@sbb.spk-berlin.de
URL;VALUE=URI:https://events.intrecht.de/termine/termin/recht-im-anthropoza
 en-tagung-2/
END:VEVENT
BEGIN:VTIMEZONE
TZID:Europe/Berlin
BEGIN:STANDARD
TZOFFSETFROM:+0200
TZOFFSETTO:+0100
DTSTART:20221030T010000
TZNAME:CET
END:STANDARD
END:VTIMEZONE
END:VCALENDAR
