BEGIN:VCALENDAR
VERSION:2.0
PRODID:-//Events | FID-Recht//NONSGML Events//EN
CALSCALE:GREGORIAN
X-ORIGINAL-URL:https://events.intrecht.de/termine/
X-WR-CALDESC:Events | FID-Recht - Events
BEGIN:VEVENT
UID:20210124T1313Z-1611493996.2745-EO-2272-1@172.16.200.141
STATUS:CONFIRMED
DTSTAMP:20260421T102732Z
CREATED:20210121T195219Z
LAST-MODIFIED:20210121T195219Z
DTSTART;VALUE=DATE:20210113
DTEND;VALUE=DATE:20210113
SUMMARY: Recht gefühlvoll\, bitte! Ein emotionshistorischer Annäherungsvers
 uch an das archaische Rechtsdenken (mit Florian Sittig) (Online-Vortrag)
DESCRIPTION: 13.01.2021\, Online https://www.geschkult.fu-berlin.de/e/fmi/b
 ereiche/altegeschichte/_ressourcen/Colloquium-WS-2020_21.pdf  
X-ALT-DESC;FMTTYPE=text/html: <p>13.01.2021\, Online</p><p><a href="https:/
 /www.geschkult.fu-berlin.de/e/fmi/bereiche/altegeschichte/_ressourcen/Collo
 quium-WS-2020_21.pdf">https://www.geschkult.fu-berlin.de/e/fmi/bereiche/alt
 egeschichte/_ressourcen/Colloquium-WS-2020_21.pdf</a></p><p> </p><p>[av_but
 ton label='iCal-Export' link='./feed/eo-events' link_target='' size='small'
  position='center' label_display='' title_attr='' icon_select='yes' icon='u
 e85b' font='entypo-fontello' color='custom' custom_bg='#b5123e' custom_font
 ='#ffffff' av_uid='' id='' custom_class='' admin_preview_bg='']</p>
CATEGORIES:Recht interdisziplinär
LOCATION:Online
GEO:0.000000;0.000000
ORGANIZER;CN="ViFa-Recht":MAILTO:vifa-recht@sbb.spk-berlin.de
URL;VALUE=URI:https://events.intrecht.de/termine/termin/recht-gefuehlvoll-b
 itte-ein-emotionshistorischer-annaeherungsversuch-an-das-archaische-rechtsd
 enken-mit-florian-sittig-online-vortrag/
END:VEVENT
BEGIN:VTIMEZONE
TZID:Europe/Berlin
BEGIN:STANDARD
TZOFFSETFROM:+0200
TZOFFSETTO:+0100
DTSTART:20201025T010000
TZNAME:CET
END:STANDARD
END:VTIMEZONE
END:VCALENDAR
