BEGIN:VCALENDAR
VERSION:2.0
PRODID:-//Events | FID-Recht//NONSGML Events//EN
CALSCALE:GREGORIAN
X-ORIGINAL-URL:https://events.intrecht.de/termine/
X-WR-CALDESC:Events | FID-Recht - Events
BEGIN:VEVENT
UID:20200603T1418Z-1591193923.3362-EO-587-1@172.16.200.141
STATUS:CONFIRMED
DTSTAMP:20260425T151212Z
CREATED:20231021T152724Z
LAST-MODIFIED:20231021T152724Z
DTSTART;VALUE=DATE:20231118
DTEND;VALUE=DATE:20231120
SUMMARY: Recht als wertbezogene Wirklichkeit. Südwestdeutscher Neukantianis
 mus\, Gustav Radbruch und Arthur Kaufmann (Kolloquium aus Anlass des 100. G
 eburtstags von Arthur Kaufmann / Hybridveranstaltung)
DESCRIPTION: 18.-19.11.2023 / Online und München https://cms-cdn.lmu.de/med
 ia/03-jura/08-aktuelles/kolloquium-aus-anlass-des-100.-geburtstags-von-arth
 ur-kaufmann/programm-kolloquium-arthur-kaufmann.pdf
X-ALT-DESC;FMTTYPE=text/html: <p>18.-19.11.2023 / Online und München</p><p>
 <a href="https://cms-cdn.lmu.de/media/03-jura/08-aktuelles/kolloquium-aus-a
 nlass-des-100.-geburtstags-von-arthur-kaufmann/programm-kolloquium-arthur-k
 aufmann.pdf">https://cms-cdn.lmu.de/media/03-jura/08-aktuelles/kolloquium-a
 us-anlass-des-100.-geburtstags-von-arthur-kaufmann/programm-kolloquium-arth
 ur-kaufmann.pdf</a></p><p>[av_button label='iCal-Export' link='./feed/eo-ev
 ents' link_target='' size='small' position='center' label_display='' title_
 attr='' icon_select='yes' icon='ue85b' font='entypo-fontello' color='custom
 ' custom_bg='#b5123e' custom_font='#ffffff' av_uid='' id='' custom_class=''
  admin_preview_bg='']</p>
CATEGORIES:Recht interdisziplinär
LOCATION:Online
GEO:0.000000;0.000000
ORGANIZER;CN="ViFa-Recht":MAILTO:vifa-recht@sbb.spk-berlin.de
URL;VALUE=URI:https://events.intrecht.de/termine/termin/recht-als-wertbezog
 ene-wirklichkeit-suedwestdeutscher-neukantianismus-gustav-radbruch-und-arth
 ur-kaufmann-kolloquium-aus-anlass-des-100-geburtstags-von-arthur-kaufmann-h
 ybridveranstaltung/
END:VEVENT
BEGIN:VTIMEZONE
TZID:Europe/Berlin
BEGIN:STANDARD
TZOFFSETFROM:+0200
TZOFFSETTO:+0100
DTSTART:20231029T010000
TZNAME:CET
END:STANDARD
END:VTIMEZONE
END:VCALENDAR
