BEGIN:VCALENDAR
VERSION:2.0
PRODID:-//Events | FID-Recht//NONSGML Events//EN
CALSCALE:GREGORIAN
X-ORIGINAL-URL:https://events.intrecht.de/termine/
X-WR-CALDESC:Events | FID-Recht - Events
BEGIN:VEVENT
UID:20200618T0123Z-1592443381.5359-EO-855-1@172.16.200.141
STATUS:CONFIRMED
DTSTAMP:20260422T175348Z
CREATED:20200604T125837Z
LAST-MODIFIED:20201103T181812Z
DTSTART;VALUE=DATE:20201116
DTEND;VALUE=DATE:20201117
SUMMARY: Recht als Strategie? Geschlecht und Recht als Argumente in der gew
 erkschaftlichen Interessenvertretung (Online-Workshop)
DESCRIPTION: 16.11.2020\, Online https://www.recht-geschlecht-kollektivitae
 t.de/veranstaltungen/?tx_news_pi1%5Bnews%5D=35&tx_news_pi1%5Bcontroller%5D=
 News&tx_news_pi1%5Baction%5D=detail&cHash=f3ed3b359f7475c7822fecfcc9642c9e 
  
X-ALT-DESC;FMTTYPE=text/html: <p>16.11.2020\, Online</p><p>https://www.rech
 t-geschlecht-kollektivitaet.de/veranstaltungen/?tx_news_pi1%5Bnews%5D=35&tx
 _news_pi1%5Bcontroller%5D=News&tx_news_pi1%5Baction%5D=detail&cHash=f3ed3b3
 59f7475c7822fecfcc9642c9e</p><p> </p><p>[av_button label='iCal-Export' link
 ='./feed/eo-events' link_target='' size='small' position='center' label_dis
 play='' title_attr='' icon_select='yes' icon='ue85b' font='entypo-fontello'
  color='custom' custom_bg='#b5123e' custom_font='#ffffff' av_uid='' id='' c
 ustom_class='' admin_preview_bg='']</p>
CATEGORIES:Recht interdisziplinär,Zivilrecht
LOCATION:Online
GEO:0.000000;0.000000
ORGANIZER;CN="ViFa-Recht":MAILTO:vifa-recht@sbb.spk-berlin.de
URL;VALUE=URI:https://events.intrecht.de/termine/termin/recht-als-strategie
 -geschlecht-und-recht-als-argumente-in-der-gewerkschaftlichen-interessenver
 tretung-workshop/
END:VEVENT
BEGIN:VTIMEZONE
TZID:Europe/Berlin
BEGIN:STANDARD
TZOFFSETFROM:+0200
TZOFFSETTO:+0100
DTSTART:20201025T010000
TZNAME:CET
END:STANDARD
END:VTIMEZONE
END:VCALENDAR
