BEGIN:VCALENDAR
VERSION:2.0
PRODID:-//Events | FID-Recht//NONSGML Events//EN
CALSCALE:GREGORIAN
X-ORIGINAL-URL:https://events.intrecht.de/termine/
X-WR-CALDESC:Events | FID-Recht - Events
BEGIN:VEVENT
UID:20200603T1418Z-1591193923.3362-EO-587-1@172.16.200.141
STATUS:CONFIRMED
DTSTAMP:20260422T090836Z
CREATED:20231219T115829Z
LAST-MODIFIED:20231219T115847Z
DTSTART;VALUE=DATE:20240612
DTEND;VALUE=DATE:20240614
SUMMARY: Recharacterising International Disputes: Exploring the Phenomenon 
 of Multi-Fora Litigation (Conference)
DESCRIPTION: 12.-13.6.2024 / Online und Maastricht (Einreichungsfrist: 31.1
 .2024) https://www.maastrichtuniversity.nl/file/cfa-recharacterising-intern
 ational-disputes5pdf
X-ALT-DESC;FMTTYPE=text/html: <p>12.-13.6.2024 / Online und Maastricht <str
 ong>(Einreichungsfrist: 31.1.2024)</strong></p><p><a href="https://www.maas
 trichtuniversity.nl/file/cfa-recharacterising-international-disputes5pdf">h
 ttps://www.maastrichtuniversity.nl/file/cfa-recharacterising-international-
 disputes5pdf</a></p><p>[av_button label='iCal-Export' link='./feed/eo-event
 s' link_target='' size='small' position='center' label_display='' title_att
 r='' icon_select='yes' icon='ue85b' font='entypo-fontello' color='custom' c
 ustom_bg='#b5123e' custom_font='#ffffff' av_uid='' id='' custom_class='' ad
 min_preview_bg='']</p>
CATEGORIES:Europäisches / Internationales Recht
LOCATION:Online
GEO:0.000000;0.000000
ORGANIZER;CN="ViFa-Recht":MAILTO:vifa-recht@sbb.spk-berlin.de
URL;VALUE=URI:https://events.intrecht.de/termine/termin/recharacterising-in
 ternational-disputes-exploring-the-phenomenon-of-multi-fora-litigation-conf
 erence/
END:VEVENT
BEGIN:VTIMEZONE
TZID:Europe/Berlin
BEGIN:DAYLIGHT
TZOFFSETFROM:+0100
TZOFFSETTO:+0200
DTSTART:20240331T010000
TZNAME:CEST
END:DAYLIGHT
END:VTIMEZONE
END:VCALENDAR
