BEGIN:VCALENDAR
VERSION:2.0
PRODID:-//Events | FID-Recht//NONSGML Events//EN
CALSCALE:GREGORIAN
X-ORIGINAL-URL:https://events.intrecht.de/termine/
X-WR-CALDESC:Events | FID-Recht - Events
BEGIN:VEVENT
UID:20200603T1418Z-1591193923.3362-EO-587-1@172.16.200.141
STATUS:CONFIRMED
DTSTAMP:20260422T091012Z
CREATED:20240223T131509Z
LAST-MODIFIED:20240223T131509Z
DTSTART;VALUE=DATE:20240314
DTEND;VALUE=DATE:20240315
SUMMARY: Recent Developments in Latin America’s Private International Laws 
 (Hybrid Event / Latin America Roundtable)
DESCRIPTION: 14.3.2024 / Online und Hamburg https://events.mpipriv.de/Lectu
 re_by_daniel_rojas_tamayo
X-ALT-DESC;FMTTYPE=text/html: <p>14.3.2024 / Online und Hamburg</p><p><a hr
 ef="https://events.mpipriv.de/Lecture_by_daniel_rojas_tamayo">https://event
 s.mpipriv.de/Lecture_by_daniel_rojas_tamayo</a></p><p>[av_button label='iCa
 l-Export' link='./feed/eo-events' link_target='' size='small' position='cen
 ter' label_display='' title_attr='' icon_select='yes' icon='ue85b' font='en
 typo-fontello' color='custom' custom_bg='#b5123e' custom_font='#ffffff' av_
 uid='' id='' custom_class='' admin_preview_bg='']</p>
CATEGORIES:Zivilrecht
LOCATION:Hybrid
GEO:0.000000;0.000000
ORGANIZER;CN="ViFa-Recht":MAILTO:vifa-recht@sbb.spk-berlin.de
URL;VALUE=URI:https://events.intrecht.de/termine/termin/recent-developments
 -in-latin-americas-private-international-laws-hybrid-event-latin-america-ro
 undtable/
END:VEVENT
BEGIN:VTIMEZONE
TZID:Europe/Berlin
BEGIN:STANDARD
TZOFFSETFROM:+0200
TZOFFSETTO:+0100
DTSTART:20231029T010000
TZNAME:CET
END:STANDARD
END:VTIMEZONE
END:VCALENDAR
