BEGIN:VCALENDAR
VERSION:2.0
PRODID:-//Events | FID-Recht//NONSGML Events//EN
CALSCALE:GREGORIAN
X-ORIGINAL-URL:https://events.intrecht.de/termine/
X-WR-CALDESC:Events | FID-Recht - Events
BEGIN:VEVENT
UID:20200603T1418Z-1591193923.3362-EO-587-1@172.16.200.141
STATUS:CONFIRMED
DTSTAMP:20260421T165854Z
CREATED:20240919T091934Z
LAST-MODIFIED:20240919T091934Z
DTSTART;VALUE=DATE:20240923
DTEND;VALUE=DATE:20240924
SUMMARY: Recent Amendments to Data Transfer Abroad Provisions of Turkish Pe
 rsonal Data Protection Law: Where Does Türkiye Stand in GDPR Compliance? (V
 irtual Lecture / Current Research on Turkish Law)
DESCRIPTION: 23.9.2024 / Online https://events.mpipriv.de/b?p=turkish_law_w
 ith_nafiye_yuecedag
X-ALT-DESC;FMTTYPE=text/html: <p>23.9.2024 / Online</p><p><a href="https://
 events.mpipriv.de/b?p=turkish_law_with_nafiye_yuecedag">https://events.mpip
 riv.de/b?p=turkish_law_with_nafiye_yuecedag</a></p><p>[av_button label='iCa
 l-Export' link='./feed/eo-events' link_target='' size='small' position='cen
 ter' label_display='' title_attr='' icon_select='yes' icon='ue85b' font='en
 typo-fontello' color='custom' custom_bg='#b5123e' custom_font='#ffffff' av_
 uid='' id='' custom_class='' admin_preview_bg='']</p>
CATEGORIES:Zivilrecht
LOCATION:Online
GEO:0.000000;0.000000
ORGANIZER;CN="ViFa-Recht":MAILTO:vifa-recht@sbb.spk-berlin.de
URL;VALUE=URI:https://events.intrecht.de/termine/termin/recent-amendments-t
 o-data-transfer-abroad-provisions-of-turkish-personal-data-protection-law-w
 here-does-tuerkiye-stand-in-gdpr-compliance-virtual-lecture-current-researc
 h-on-turkish-law/
END:VEVENT
BEGIN:VTIMEZONE
TZID:Europe/Berlin
BEGIN:DAYLIGHT
TZOFFSETFROM:+0100
TZOFFSETTO:+0200
DTSTART:20240331T010000
TZNAME:CEST
END:DAYLIGHT
END:VTIMEZONE
END:VCALENDAR
