BEGIN:VCALENDAR
VERSION:2.0
PRODID:-//Events | FID-Recht//NONSGML Events//EN
CALSCALE:GREGORIAN
X-ORIGINAL-URL:https://events.intrecht.de/termine/
X-WR-CALDESC:Events | FID-Recht - Events
BEGIN:VEVENT
UID:20200816T1225Z-1597580733.1782-EO-1376-1@172.16.200.141
STATUS:CONFIRMED
DTSTAMP:20260422T143420Z
CREATED:20200813T145414Z
LAST-MODIFIED:20200813T145637Z
DTSTART;VALUE=DATE:20200819
DTEND;VALUE=DATE:20200821
SUMMARY: Reaktionen auf Corona im japanischen und deutschen Recht (Online-K
 onferenz)
DESCRIPTION: 19.-20.8.2020\, Online https://www.mpipriv.de/1198798/reaktion
 en-auf-corona-im-japanischen-und-deutschen-recht  
X-ALT-DESC;FMTTYPE=text/html: <p>19.-20.8.2020\, Online</p><p><a href="http
 s://www.mpipriv.de/1198798/reaktionen-auf-corona-im-japanischen-und-deutsch
 en-recht">https://www.mpipriv.de/1198798/reaktionen-auf-corona-im-japanisch
 en-und-deutschen-recht</a></p><p> </p><p>[av_button label='iCal-Export' lin
 k='./feed/eo-events' link_target='' size='small' position='center' label_di
 splay='' title_attr='' icon_select='yes' icon='ue85b' font='entypo-fontello
 ' color='custom' custom_bg='#b5123e' custom_font='#ffffff' av_uid='' id='' 
 custom_class='' admin_preview_bg='']</p>
CATEGORIES:Zivilrecht
LOCATION:Online
GEO:0.000000;0.000000
ORGANIZER;CN="ViFa-Recht":MAILTO:vifa-recht@sbb.spk-berlin.de
URL;VALUE=URI:https://events.intrecht.de/termine/termin/reaktionen-auf-coro
 na-im-japanischen-und-deutschen-recht-online-konferenz/
END:VEVENT
BEGIN:VTIMEZONE
TZID:Europe/Berlin
BEGIN:DAYLIGHT
TZOFFSETFROM:+0100
TZOFFSETTO:+0200
DTSTART:20200329T010000
TZNAME:CEST
END:DAYLIGHT
END:VTIMEZONE
END:VCALENDAR
