BEGIN:VCALENDAR
VERSION:2.0
PRODID:-//Events | FID-Recht//NONSGML Events//EN
CALSCALE:GREGORIAN
X-ORIGINAL-URL:https://events.intrecht.de/termine/
X-WR-CALDESC:Events | FID-Recht - Events
BEGIN:VEVENT
UID:20200603T1418Z-1591193923.3362-EO-587-1@172.16.200.141
STATUS:CONFIRMED
DTSTAMP:20260425T221614Z
CREATED:20240325T110751Z
LAST-MODIFIED:20240325T110751Z
DTSTART;VALUE=DATE:20240926
DTEND;VALUE=DATE:20240928
SUMMARY: (Re) Vision (Dritte Konferenz des deutschen ICON-S Chapters)
DESCRIPTION: 26.-27.9.2024 / Mannheim (Einreichungsfrist: 30.4.2024) https:
 //sites.google.com/view/icon-s-germany/konferenzconference-2024-mannheim-cf
 a?authuser=0
X-ALT-DESC;FMTTYPE=text/html: <p>26.-27.9.2024 / Mannheim <strong>(Einreich
 ungsfrist: 30.4.2024)</strong></p><p><a href="https://sites.google.com/view
 /icon-s-germany/konferenzconference-2024-mannheim-cfa?authuser=0">https://s
 ites.google.com/view/icon-s-germany/konferenzconference-2024-mannheim-cfa?a
 uthuser=0</a></p><p>[av_button label='iCal-Export' link='./feed/eo-events' 
 link_target='' size='small' position='center' label_display='' title_attr='
 ' icon_select='yes' icon='ue85b' font='entypo-fontello' color='custom' cust
 om_bg='#b5123e' custom_font='#ffffff' av_uid='' id='' custom_class='' admin
 _preview_bg='']</p>
CATEGORIES:Öffentliches Recht
LOCATION:Inland
GEO:0.000000;0.000000
ORGANIZER;CN="ViFa-Recht":MAILTO:vifa-recht@sbb.spk-berlin.de
URL;VALUE=URI:https://events.intrecht.de/termine/termin/re-vision-dritte-ko
 nferenz-des-deutschen-icon-s-chapters/
END:VEVENT
BEGIN:VTIMEZONE
TZID:Europe/Berlin
BEGIN:DAYLIGHT
TZOFFSETFROM:+0100
TZOFFSETTO:+0200
DTSTART:20240331T010000
TZNAME:CEST
END:DAYLIGHT
END:VTIMEZONE
END:VCALENDAR
