BEGIN:VCALENDAR
VERSION:2.0
PRODID:-//Events | FID-Recht//NONSGML Events//EN
CALSCALE:GREGORIAN
X-ORIGINAL-URL:https://events.intrecht.de/termine/
X-WR-CALDESC:Events | FID-Recht - Events
BEGIN:VEVENT
UID:20200603T1418Z-1591193923.3362-EO-587-1@172.16.200.141
STATUS:CONFIRMED
DTSTAMP:20260425T214206Z
CREATED:20231115T125107Z
LAST-MODIFIED:20231115T125331Z
DTSTART;VALUE=DATE:20240523
DTEND;VALUE=DATE:20240525
SUMMARY: Race and Multilateralism in the International Order (Workshop)
DESCRIPTION: 23.-24.5.2024 / Berlin (Einreichungsfrist: 5.1.2024) https://w
 ww.scripts-berlin.eu/news-events-media/news/documents/Workshop-Race-and-Mul
 tilateralism-Call-for-Papers_Final.pdf
X-ALT-DESC;FMTTYPE=text/html: <p>23.-24.5.2024 / Berlin <strong>(Einreichun
 gsfrist: 5.1.2024)</strong></p><p><a href="https://www.scripts-berlin.eu/ne
 ws-events-media/news/documents/Workshop-Race-and-Multilateralism-Call-for-P
 apers_Final.pdf">https://www.scripts-berlin.eu/news-events-media/news/docum
 ents/Workshop-Race-and-Multilateralism-Call-for-Papers_Final.pdf</a></p><p>
 [av_button label='iCal-Export' link='./feed/eo-events' link_target='' size=
 'small' position='center' label_display='' title_attr='' icon_select='yes' 
 icon='ue85b' font='entypo-fontello' color='custom' custom_bg='#b5123e' cust
 om_font='#ffffff' av_uid='' id='' custom_class='' admin_preview_bg='']</p>
CATEGORIES:Recht interdisziplinär
LOCATION:Inland
GEO:0.000000;0.000000
ORGANIZER;CN="ViFa-Recht":MAILTO:vifa-recht@sbb.spk-berlin.de
URL;VALUE=URI:https://events.intrecht.de/termine/termin/race-and-multilater
 alism-in-the-international-order-workshop/
END:VEVENT
BEGIN:VTIMEZONE
TZID:Europe/Berlin
BEGIN:DAYLIGHT
TZOFFSETFROM:+0100
TZOFFSETTO:+0200
DTSTART:20240331T010000
TZNAME:CEST
END:DAYLIGHT
END:VTIMEZONE
END:VCALENDAR
