BEGIN:VCALENDAR
VERSION:2.0
PRODID:-//Events | FID-Recht//NONSGML Events//EN
CALSCALE:GREGORIAN
X-ORIGINAL-URL:https://events.intrecht.de/termine/
X-WR-CALDESC:Events | FID-Recht - Events
BEGIN:VEVENT
UID:20200709T1356Z-1594302963.5418-EO-1233-1@172.16.200.141
STATUS:CONFIRMED
DTSTAMP:20260422T162853Z
CREATED:20200708T182608Z
LAST-MODIFIED:20200717T130030Z
DTSTART;VALUE=DATE:20200729
DTEND;VALUE=DATE:20200729
SUMMARY: Race and Law in the Time of Covid (Online-Konferenz)
DESCRIPTION: 29.7.2020\, Online https://criticallegalthinking.com/2020/07/0
 8/online-event-race-and-law-in-the-time-of-covid-19-soas-29-july-2020/  
X-ALT-DESC;FMTTYPE=text/html: <p>29.7.2020\, Online</p><p><a href="https://
 criticallegalthinking.com/2020/07/08/online-event-race-and-law-in-the-time-
 of-covid-19-soas-29-july-2020/">https://criticallegalthinking.com/2020/07/0
 8/online-event-race-and-law-in-the-time-of-covid-19-soas-29-july-2020/</a><
 /p><p> </p><p>[av_button label='iCal-Export' link='./feed/eo-events' link_t
 arget='' size='small' position='center' label_display='' title_attr='' icon
 _select='yes' icon='ue85b' font='entypo-fontello' color='custom' custom_bg=
 '#b5123e' custom_font='#ffffff' av_uid='' id='' custom_class='' admin_previ
 ew_bg='']</p>
CATEGORIES:Recht interdisziplinär
LOCATION:Online
GEO:0.000000;0.000000
ORGANIZER;CN="ViFa-Recht":MAILTO:vifa-recht@sbb.spk-berlin.de
URL;VALUE=URI:https://events.intrecht.de/termine/termin/race-and-law-in-the
 -time-of-covid-onlinke-konferenz/
END:VEVENT
BEGIN:VTIMEZONE
TZID:Europe/Berlin
BEGIN:DAYLIGHT
TZOFFSETFROM:+0100
TZOFFSETTO:+0200
DTSTART:20200329T010000
TZNAME:CEST
END:DAYLIGHT
END:VTIMEZONE
END:VCALENDAR
