BEGIN:VCALENDAR
VERSION:2.0
PRODID:-//Events | FID-Recht//NONSGML Events//EN
CALSCALE:GREGORIAN
X-ORIGINAL-URL:https://events.intrecht.de/termine/
X-WR-CALDESC:Events | FID-Recht - Events
BEGIN:VEVENT
UID:20200603T1418Z-1591193923.3362-EO-587-1@172.16.200.141
STATUS:CONFIRMED
DTSTAMP:20260422T230410Z
CREATED:20240726T124107Z
LAST-MODIFIED:20240726T124107Z
DTSTART;VALUE=DATE:20241206
DTEND;VALUE=DATE:20241207
SUMMARY: Questioning Economic Security (3rd Utrecht EU Trade and Investment
  Law Workshop)
DESCRIPTION: 6.12.2024 / Utrecht (Einreichungsfrist: 27.9.2024) https://www
 .uu.nl/sites/default/files/rebo-renforce-workshop-Call%20for%20Papers-3rd%2
 0Utrecht%20EU%20Trade%20and%20Investment%20Law%20Workshop-2024.pdf
X-ALT-DESC;FMTTYPE=text/html: <p>6.12.2024 / Utrecht <strong>(Einreichungsf
 rist: 27.9.2024)</strong></p><p><a href="https://www.uu.nl/sites/default/fi
 les/rebo-renforce-workshop-Call%20for%20Papers-3rd%20Utrecht%20EU%20Trade%2
 0and%20Investment%20Law%20Workshop-2024.pdf">https://www.uu.nl/sites/defaul
 t/files/rebo-renforce-workshop-Call%20for%20Papers-3rd%20Utrecht%20EU%20Tra
 de%20and%20Investment%20Law%20Workshop-2024.pdf</a></p><p>[av_button label=
 'iCal-Export' link='./feed/eo-events' link_target='' size='small' position=
 'center' label_display='' title_attr='' icon_select='yes' icon='ue85b' font
 ='entypo-fontello' color='custom' custom_bg='#b5123e' custom_font='#ffffff'
  av_uid='' id='' custom_class='' admin_preview_bg='']</p>
CATEGORIES:Europäisches / Internationales Recht
LOCATION:Ausland
GEO:0.000000;0.000000
ORGANIZER;CN="ViFa-Recht":MAILTO:vifa-recht@sbb.spk-berlin.de
URL;VALUE=URI:https://events.intrecht.de/termine/termin/questioning-economi
 c-security-3rd-utrecht-eu-trade-and-investment-law-workshop/
END:VEVENT
BEGIN:VTIMEZONE
TZID:Europe/Berlin
BEGIN:STANDARD
TZOFFSETFROM:+0200
TZOFFSETTO:+0100
DTSTART:20241027T010000
TZNAME:CET
END:STANDARD
END:VTIMEZONE
END:VCALENDAR
