BEGIN:VCALENDAR
VERSION:2.0
PRODID:-//Events | FID-Recht//NONSGML Events//EN
CALSCALE:GREGORIAN
X-ORIGINAL-URL:https://events.intrecht.de/termine/
X-WR-CALDESC:Events | FID-Recht - Events
BEGIN:VEVENT
UID:20200603T1418Z-1591193923.3362-EO-587-1@172.16.200.141
STATUS:CONFIRMED
DTSTAMP:20260425T200110Z
CREATED:20231021T153831Z
LAST-MODIFIED:20231021T153831Z
DTSTART;VALUE=DATE:20240218
DTEND;VALUE=DATE:20240301
SUMMARY: Quellenkompetenz in jüdischer\, allgemeiner und Rechtsgeschichte (
 Winterschool)
DESCRIPTION: 18.-29.2.2024 / Wahlweise in Jerusalem oder in Wien (Bewerbung
 sfristen: 30.10. und 15.12.2023) https://www.hsozkult.de/event/id/event-139
 077
X-ALT-DESC;FMTTYPE=text/html: <p>18.-29.2.2024 / Wahlweise in Jerusalem ode
 r in Wien <strong>(Bewerbungsfristen: 30.10. und 15.12.2023)</strong></p><p
 ><a href="https://www.hsozkult.de/event/id/event-139077">https://www.hsozku
 lt.de/event/id/event-139077</a></p><p>[av_button label='iCal-Export' link='
 ./feed/eo-events' link_target='' size='small' position='center' label_displ
 ay='' title_attr='' icon_select='yes' icon='ue85b' font='entypo-fontello' c
 olor='custom' custom_bg='#b5123e' custom_font='#ffffff' av_uid='' id='' cus
 tom_class='' admin_preview_bg='']</p>
CATEGORIES:Recht interdisziplinär
LOCATION:Ausland
GEO:0.000000;0.000000
ORGANIZER;CN="ViFa-Recht":MAILTO:vifa-recht@sbb.spk-berlin.de
URL;VALUE=URI:https://events.intrecht.de/termine/termin/quellenkompetenz-in
 -juedischer-allgemeiner-und-rechtsgeschichte-winterschool/
END:VEVENT
BEGIN:VTIMEZONE
TZID:Europe/Berlin
BEGIN:STANDARD
TZOFFSETFROM:+0200
TZOFFSETTO:+0100
DTSTART:20231029T010000
TZNAME:CET
END:STANDARD
END:VTIMEZONE
END:VCALENDAR
