BEGIN:VCALENDAR
VERSION:2.0
PRODID:-//Events | FID-Recht//NONSGML Events//EN
CALSCALE:GREGORIAN
X-ORIGINAL-URL:https://events.intrecht.de/termine/
X-WR-CALDESC:Events | FID-Recht - Events
BEGIN:VEVENT
UID:20200602T0945Z-1591091115.9737-EO-599-1@172.16.200.141
STATUS:CONFIRMED
DTSTAMP:20260423T034255Z
CREATED:20251124T150408Z
LAST-MODIFIED:20251124T150408Z
DTSTART;VALUE=DATE:20251201
DTEND;VALUE=DATE:20251202
SUMMARY: Quantifying State Surveillance from a Constitutional Perspective (
 Online Event)
DESCRIPTION: 1.12.2025 / Online https://law.mpg.de/event/quantifying-state-
 surveillance-from-a-constitutional-perspective/
X-ALT-DESC;FMTTYPE=text/html: <p>1.12.2025 / Online</p><p><a href="https://
 law.mpg.de/event/quantifying-state-surveillance-from-a-constitutional-persp
 ective/">https://law.mpg.de/event/quantifying-state-surveillance-from-a-con
 stitutional-perspective/</a></p><p>[av_button label='iCal-Export' link='./f
 eed/eo-events' link_target='' size='small' position='center' label_display=
 '' title_attr='' icon_select='yes' icon='ue85b' font='entypo-fontello' colo
 r='custom' custom_bg='#b5123e' custom_font='#ffffff' av_uid='' id='' custom
 _class='' admin_preview_bg='']</p>
CATEGORIES:Recht interdisziplinär
LOCATION:Online
GEO:0.000000;0.000000
ORGANIZER;CN="ViFa-Recht":MAILTO:vifa-recht@sbb.spk-berlin.de
URL;VALUE=URI:https://events.intrecht.de/termine/termin/quantifying-state-s
 urveillance-from-a-constitutional-perspective-online-event/
END:VEVENT
BEGIN:VTIMEZONE
TZID:Europe/Berlin
BEGIN:STANDARD
TZOFFSETFROM:+0200
TZOFFSETTO:+0100
DTSTART:20251026T010000
TZNAME:CET
END:STANDARD
END:VTIMEZONE
END:VCALENDAR
