BEGIN:VCALENDAR
VERSION:2.0
PRODID:-//Events | FID-Recht//NONSGML Events//EN
CALSCALE:GREGORIAN
X-ORIGINAL-URL:https://events.intrecht.de/termine/
X-WR-CALDESC:Events | FID-Recht - Events
BEGIN:VEVENT
UID:20200603T1418Z-1591193923.3362-EO-587-1@172.16.200.141
STATUS:CONFIRMED
DTSTAMP:20260422T192708Z
CREATED:20241115T150400Z
LAST-MODIFIED:20241115T150400Z
DTSTART;VALUE=DATE:20241213
DTEND;VALUE=DATE:20241214
SUMMARY: Qualitative Methoden für die empirische Rechtswissenschaft (Hybrid
  Event / Freie Universität Empirical Legal Studies Center (FUELS))
DESCRIPTION: 13.12.2024 / Online und Berlin https://www.jura.fu-berlin.de/e
 n/forschung/fuels/Upcoming/Event-2024-12-13.html
X-ALT-DESC;FMTTYPE=text/html: <p>13.12.2024 / Online und Berlin</p><p><a hr
 ef="https://www.jura.fu-berlin.de/en/forschung/fuels/Upcoming/Event-2024-12
 -13.html">https://www.jura.fu-berlin.de/en/forschung/fuels/Upcoming/Event-2
 024-12-13.html</a></p><p>[av_button label='iCal-Export' link='./feed/eo-eve
 nts' link_target='' size='small' position='center' label_display='' title_a
 ttr='' icon_select='yes' icon='ue85b' font='entypo-fontello' color='custom'
  custom_bg='#b5123e' custom_font='#ffffff' av_uid='' id='' custom_class='' 
 admin_preview_bg='']</p>
CATEGORIES:Recht interdisziplinär
LOCATION:Hybrid
GEO:0.000000;0.000000
ORGANIZER;CN="ViFa-Recht":MAILTO:vifa-recht@sbb.spk-berlin.de
URL;VALUE=URI:https://events.intrecht.de/termine/termin/qualitative-methode
 n-fuer-die-empirische-rechtswissenschaft-hybrid-event-freie-universitaet-em
 pirical-legal-studies-center-fuels/
END:VEVENT
BEGIN:VTIMEZONE
TZID:Europe/Berlin
BEGIN:STANDARD
TZOFFSETFROM:+0200
TZOFFSETTO:+0100
DTSTART:20241027T010000
TZNAME:CET
END:STANDARD
END:VTIMEZONE
END:VCALENDAR
