BEGIN:VCALENDAR
VERSION:2.0
PRODID:-//Events | FID-Recht//NONSGML Events//EN
CALSCALE:GREGORIAN
X-ORIGINAL-URL:https://events.intrecht.de/termine/
X-WR-CALDESC:Events | FID-Recht - Events
BEGIN:VEVENT
UID:20200625T0148Z-1593049702.0901-EO-889-1@172.16.200.141
STATUS:CONFIRMED
DTSTAMP:20260421T102522Z
CREATED:20200604T161350Z
LAST-MODIFIED:20200604T161350Z
DTSTART;VALUE=DATE:20200709
DTEND;VALUE=DATE:20200712
SUMMARY: Public Law\, (Dis)trust and Dissent / 2020 ICON·S Annual Conferenc
 e (Konferenz)
DESCRIPTION: 8.-10.7.2021\, Breslau https://www.icon-society.org/2020-confe
 rence/call_2020/  
X-ALT-DESC;FMTTYPE=text/html: <p><span style="display: inline !important\; 
 float: none\; background-color: #ffffff\; color: #333333\; cursor: text\; f
 ont-family: Georgia\,'Times New Roman'\,'Bitstream Charter'\,Times\,serif\;
  font-size: 16px\; font-style: normal\; font-variant: normal\; font-weight:
  400\; letter-spacing: normal\; orphans: 2\; text-align: left\; text-decora
 tion: none\; text-indent: 0px\; text-transform: none\; -webkit-text-stroke-
 width: 0px\; white-space: normal\; word-spacing: 0px\;">8.-10.7.2021</span>
 \, Breslau</p><p><a href="https://www.icon-society.org/2020-conference/call
 _2020/">https://www.icon-society.org/2020-conference/call_2020/</a></p><p> 
 </p><p>[av_button label='iCal-Export' link='./feed/eo-events' link_target='
 ' size='small' position='center' label_display='' title_attr='' icon_select
 ='yes' icon='ue85b' font='entypo-fontello' color='custom' custom_bg='#b5123
 e' custom_font='#ffffff' av_uid='' id='' custom_class='' admin_preview_bg='
 ']</p>
CATEGORIES:Öffentliches Recht
LOCATION:Ausland
GEO:0.000000;0.000000
ORGANIZER;CN="ViFa-Recht":MAILTO:vifa-recht@sbb.spk-berlin.de
URL;VALUE=URI:https://events.intrecht.de/termine/termin/public-law-distrust
 -and-dissent-2020-icon%c2%b7s-annual-conference-konferenz/
END:VEVENT
BEGIN:VTIMEZONE
TZID:Europe/Berlin
BEGIN:DAYLIGHT
TZOFFSETFROM:+0100
TZOFFSETTO:+0200
DTSTART:20200329T010000
TZNAME:CEST
END:DAYLIGHT
END:VTIMEZONE
END:VCALENDAR
