BEGIN:VCALENDAR
VERSION:2.0
PRODID:-//Events | FID-Recht//NONSGML Events//EN
CALSCALE:GREGORIAN
X-ORIGINAL-URL:https://events.intrecht.de/termine/
X-WR-CALDESC:Events | FID-Recht - Events
BEGIN:VEVENT
UID:20200603T1418Z-1591193923.3362-EO-587-1@172.16.200.141
STATUS:CONFIRMED
DTSTAMP:20260422T154252Z
CREATED:20240214T110418Z
LAST-MODIFIED:20240214T110418Z
DTSTART;VALUE=DATE:20240910
DTEND;VALUE=DATE:20240912
SUMMARY: Public Law and Cities (ICON.S Austrian Chapter Conference)
DESCRIPTION: 10.-11.9.2024 / Wien (Einreichungsfrist: 15.4.2024) https://ww
 w.icon-society.at/conferences/public-law-and-cities-2024/call-for-papers-an
 d-panels/
X-ALT-DESC;FMTTYPE=text/html: <p>10.-11.9.2024 / Wien <strong>(Einreichungs
 frist: 15.4.2024)</strong></p><p><a href="https://www.icon-society.at/confe
 rences/public-law-and-cities-2024/call-for-papers-and-panels/">https://www.
 icon-society.at/conferences/public-law-and-cities-2024/call-for-papers-and-
 panels/</a></p><p>[av_button label='iCal-Export' link='./feed/eo-events' li
 nk_target='' size='small' position='center' label_display='' title_attr='' 
 icon_select='yes' icon='ue85b' font='entypo-fontello' color='custom' custom
 _bg='#b5123e' custom_font='#ffffff' av_uid='' id='' custom_class='' admin_p
 review_bg='']</p>
CATEGORIES:Öffentliches Recht
LOCATION:Ausland
GEO:0.000000;0.000000
ORGANIZER;CN="ViFa-Recht":MAILTO:vifa-recht@sbb.spk-berlin.de
URL;VALUE=URI:https://events.intrecht.de/termine/termin/public-law-and-citi
 es-icon-s-austrian-chapter-conference/
END:VEVENT
BEGIN:VTIMEZONE
TZID:Europe/Berlin
BEGIN:DAYLIGHT
TZOFFSETFROM:+0100
TZOFFSETTO:+0200
DTSTART:20240331T010000
TZNAME:CEST
END:DAYLIGHT
END:VTIMEZONE
END:VCALENDAR
