BEGIN:VCALENDAR
VERSION:2.0
PRODID:-//Events | FID-Recht//NONSGML Events//EN
CALSCALE:GREGORIAN
X-ORIGINAL-URL:https://events.intrecht.de/termine/
X-WR-CALDESC:Events | FID-Recht - Events
BEGIN:VEVENT
UID:20200603T1418Z-1591193923.3362-EO-587-1@172.16.200.141
STATUS:CONFIRMED
DTSTAMP:20260422T154316Z
CREATED:20230815T084635Z
LAST-MODIFIED:20240112T104925Z
DTSTART;VALUE=DATE:20240111
DTEND;VALUE=DATE:20240113
SUMMARY: Public Governance and Emerging Technologies: Values\, Trust\, and 
 Compliance by Design (Interdisciplinary International Conference)
DESCRIPTION: 11.-12.1.2024 / Utrecht (15.10.2023) https://chainresearch.eu/
 events/call-for-abstracts-and-panel-proposals-for-international-conference/
X-ALT-DESC;FMTTYPE=text/html: <p>11.-12.1.2024 / Utrecht <strong>(15.10.202
 3)</strong></p><p><a href="https://chainresearch.eu/events/call-for-abstrac
 ts-and-panel-proposals-for-international-conference/">https://chainresearch
 .eu/events/call-for-abstracts-and-panel-proposals-for-international-confere
 nce/</a></p><p>[av_button label='iCal-Export' link='./feed/eo-events' link_
 target='' size='small' position='center' label_display='' title_attr='' ico
 n_select='yes' icon='ue85b' font='entypo-fontello' color='custom' custom_bg
 ='#b5123e' custom_font='#ffffff' av_uid='' id='' custom_class='' admin_prev
 iew_bg='']</p>
CATEGORIES:Recht interdisziplinär
LOCATION:Ausland
GEO:0.000000;0.000000
ORGANIZER;CN="ViFa-Recht":MAILTO:vifa-recht@sbb.spk-berlin.de
URL;VALUE=URI:https://events.intrecht.de/termine/termin/public-governance-a
 nd-emerging-technologies-values-trust-and-compliance-by-design-interdiscipl
 inary-international-conference/
END:VEVENT
BEGIN:VTIMEZONE
TZID:Europe/Berlin
BEGIN:STANDARD
TZOFFSETFROM:+0200
TZOFFSETTO:+0100
DTSTART:20231029T010000
TZNAME:CET
END:STANDARD
END:VTIMEZONE
END:VCALENDAR
