BEGIN:VCALENDAR
VERSION:2.0
PRODID:-//Events | FID-Recht//NONSGML Events//EN
CALSCALE:GREGORIAN
X-ORIGINAL-URL:https://events.intrecht.de/termine/
X-WR-CALDESC:Events | FID-Recht - Events
BEGIN:VEVENT
UID:20220204T1040Z-1643971239.037-EO-4244-1@172.16.200.141
STATUS:CONFIRMED
DTSTAMP:20260421T133439Z
CREATED:20220127T195814Z
LAST-MODIFIED:20220127T195814Z
DTSTART;VALUE=DATE:20220222
DTEND;VALUE=DATE:20220223
SUMMARY: Protecting the Environment through a Crime of Ecocide? (with Kai A
 mbos) (Online-Vortrag)
DESCRIPTION: 22.2.2022\, Online Kai Ambos: Protecting the Environment throu
 gh a Crime of Ecocide? — Integrative Research Institute Law & Society (LSI)
  (hu-berlin.de)  
X-ALT-DESC;FMTTYPE=text/html: <p>22.2.2022\, Online</p><p><a href="https://
 www.rewi.hu-berlin.de/de/lf/oe/lsi/kai-ambos-protecting-the-environment-thr
 ough-a-crime-of-ecocide">Kai Ambos: Protecting the Environment through a Cr
 ime of Ecocide? — Integrative Research Institute Law & Society (LSI) (hu-be
 rlin.de)</a></p><p> </p><p>[av_button label='iCal-Export' link='./feed/eo-e
 vents' link_target='' size='small' position='center' label_display='' title
 _attr='' icon_select='yes' icon='ue85b' font='entypo-fontello' color='custo
 m' custom_bg='#b5123e' custom_font='#ffffff' av_uid='' id='' custom_class='
 ' admin_preview_bg='']</p>
CATEGORIES:Strafrecht
LOCATION:Online
GEO:0.000000;0.000000
ORGANIZER;CN="ViFa-Recht":MAILTO:vifa-recht@sbb.spk-berlin.de
URL;VALUE=URI:https://events.intrecht.de/termine/termin/protecting-the-envi
 ronment-through-a-crime-of-ecocide-with-kai-ambos-online-vortrag/
END:VEVENT
BEGIN:VTIMEZONE
TZID:Europe/Berlin
BEGIN:STANDARD
TZOFFSETFROM:+0200
TZOFFSETTO:+0100
DTSTART:20211031T010000
TZNAME:CET
END:STANDARD
END:VTIMEZONE
END:VCALENDAR
