BEGIN:VCALENDAR
VERSION:2.0
PRODID:-//Events | FID-Recht//NONSGML Events//EN
CALSCALE:GREGORIAN
X-ORIGINAL-URL:https://events.intrecht.de/termine/
X-WR-CALDESC:Events | FID-Recht - Events
BEGIN:VEVENT
UID:20200603T1418Z-1591193923.3362-EO-587-1@172.16.200.141
STATUS:CONFIRMED
DTSTAMP:20260423T021428Z
CREATED:20250423T130347Z
LAST-MODIFIED:20250423T130505Z
DTSTART;VALUE=DATE:20250507
DTEND;VALUE=DATE:20250510
SUMMARY: Profiling and Automated Decisions in Criminal Justice (14th Confer
 ence on the Future of Adversarial and Inquisitorial Systems)
DESCRIPTION: 7.-9.5.2025 / Freiburg https://law.mpg.de/event/profiling-auto
 mated-decisions-in-criminal-justice/
X-ALT-DESC;FMTTYPE=text/html: <p>7.-9.5.2025 / Freiburg</p><p><a href="http
 s://law.mpg.de/event/profiling-automated-decisions-in-criminal-justice/">ht
 tps://law.mpg.de/event/profiling-automated-decisions-in-criminal-justice/</
 a></p><p>[av_button label='iCal-Export' link='./feed/eo-events' link_target
 ='' size='small' position='center' label_display='' title_attr='' icon_sele
 ct='yes' icon='ue85b' font='entypo-fontello' color='custom' custom_bg='#b51
 23e' custom_font='#ffffff' av_uid='' id='' custom_class='' admin_preview_bg
 ='']</p>
CATEGORIES:Strafrecht
LOCATION:Inland
GEO:0.000000;0.000000
ORGANIZER;CN="ViFa-Recht":MAILTO:vifa-recht@sbb.spk-berlin.de
URL;VALUE=URI:https://events.intrecht.de/termine/termin/profiling-and-autom
 ated-decisions-in-criminal-justice-14th-conference-on-the-future-of-adversa
 rial-and-inquisitorial-systems/
END:VEVENT
BEGIN:VTIMEZONE
TZID:Europe/Berlin
BEGIN:DAYLIGHT
TZOFFSETFROM:+0100
TZOFFSETTO:+0200
DTSTART:20250330T010000
TZNAME:CEST
END:DAYLIGHT
END:VTIMEZONE
END:VCALENDAR
