BEGIN:VCALENDAR
VERSION:2.0
PRODID:-//Events | FID-Recht//NONSGML Events//EN
CALSCALE:GREGORIAN
X-ORIGINAL-URL:https://events.intrecht.de/termine/
X-WR-CALDESC:Events | FID-Recht - Events
BEGIN:VEVENT
UID:20200603T1418Z-1591193923.3362-EO-587-1@172.16.200.141
STATUS:CONFIRMED
DTSTAMP:20260425T182943Z
CREATED:20230320T101518Z
LAST-MODIFIED:20230320T101518Z
DTSTART;VALUE=DATE:20230714
DTEND;VALUE=DATE:20230715
SUMMARY: Professionals and Professionalism(s) in International Criminal Jus
 tice (International Workshop)
DESCRIPTION: 14.7.2023 / Leeds (Frist für Einreichungen: 17.4.2023) https:/
 /essl.leeds.ac.uk/law/events/event/1312/professionals-and-professionalism-s
 -in-international-criminal-justice-international-workshop
X-ALT-DESC;FMTTYPE=text/html: <p>14.7.2023 / Leeds <strong>(Frist für Einre
 ichungen: 17.4.2023)</strong></p><p><a href="https://essl.leeds.ac.uk/law/e
 vents/event/1312/professionals-and-professionalism-s-in-international-crimi
 nal-justice-international-workshop">https://essl.leeds.ac.uk/law/events/eve
 nt/1312/professionals-and-professionalism-s-in-international-criminal-justi
 ce-international-workshop</a></p><p>[av_button label='iCal-Export' link='./
 feed/eo-events' link_target='' size='small' position='center' label_display
 ='' title_attr='' icon_select='yes' icon='ue85b' font='entypo-fontello' col
 or='custom' custom_bg='#b5123e' custom_font='#ffffff' av_uid='' id='' custo
 m_class='' admin_preview_bg='']</p>
CATEGORIES:Europäisches / Internationales Recht
LOCATION:Ausland
GEO:0.000000;0.000000
ORGANIZER;CN="ViFa-Recht":MAILTO:vifa-recht@sbb.spk-berlin.de
URL;VALUE=URI:https://events.intrecht.de/termine/termin/professionals-and-p
 rofessionalisms-in-international-criminal-justice-international-workshop/
END:VEVENT
BEGIN:VTIMEZONE
TZID:Europe/Berlin
BEGIN:DAYLIGHT
TZOFFSETFROM:+0100
TZOFFSETTO:+0200
DTSTART:20230326T010000
TZNAME:CEST
END:DAYLIGHT
END:VTIMEZONE
END:VCALENDAR
