BEGIN:VCALENDAR
VERSION:2.0
PRODID:-//Events | FID-Recht//NONSGML Events//EN
CALSCALE:GREGORIAN
X-ORIGINAL-URL:https://events.intrecht.de/termine/
X-WR-CALDESC:Events | FID-Recht - Events
BEGIN:VEVENT
UID:20200603T1418Z-1591193923.3362-EO-587-1@172.16.200.141
STATUS:CONFIRMED
DTSTAMP:20260422T091010Z
CREATED:20240209T095704Z
LAST-MODIFIED:20240209T095704Z
DTSTART;VALUE=DATE:20240306
DTEND;VALUE=DATE:20240307
SUMMARY: Procedural justice\, mental health and the criminal justice system
  (Hybrid Event)
DESCRIPTION: 6.3.2024 / Online und London https://www.eventbrite.co.uk/e/pr
 ocedural-justice-mental-health-and-the-criminal-justice-system-tickets-7714
 39625687
X-ALT-DESC;FMTTYPE=text/html: <p>6.3.2024 / Online und London</p><p><a href
 ="https://www.eventbrite.co.uk/e/procedural-justice-mental-health-and-the-c
 riminal-justice-system-tickets-771439625687">https://www.eventbrite.co.uk/e
 /procedural-justice-mental-health-and-the-criminal-justice-system-tickets-7
 71439625687</a></p><p>[av_button label='iCal-Export' link='./feed/eo-events
 ' link_target='' size='small' position='center' label_display='' title_attr
 ='' icon_select='yes' icon='ue85b' font='entypo-fontello' color='custom' cu
 stom_bg='#b5123e' custom_font='#ffffff' av_uid='' id='' custom_class='' adm
 in_preview_bg='']</p>
CATEGORIES:Recht interdisziplinär
LOCATION:Hybrid
GEO:0.000000;0.000000
ORGANIZER;CN="ViFa-Recht":MAILTO:vifa-recht@sbb.spk-berlin.de
URL;VALUE=URI:https://events.intrecht.de/termine/termin/procedural-justice-
 mental-health-and-the-criminal-justice-system-hybrid-event/
END:VEVENT
BEGIN:VTIMEZONE
TZID:Europe/Berlin
BEGIN:STANDARD
TZOFFSETFROM:+0200
TZOFFSETTO:+0100
DTSTART:20231029T010000
TZNAME:CET
END:STANDARD
END:VTIMEZONE
END:VCALENDAR
