BEGIN:VCALENDAR
VERSION:2.0
PRODID:-//Events | FID-Recht//NONSGML Events//EN
CALSCALE:GREGORIAN
X-ORIGINAL-URL:https://events.intrecht.de/termine/
X-WR-CALDESC:Events | FID-Recht - Events
BEGIN:VEVENT
UID:20200603T1418Z-1591193923.3362-EO-587-1@172.16.200.141
STATUS:CONFIRMED
DTSTAMP:20260422T225235Z
CREATED:20250110T142209Z
LAST-MODIFIED:20250110T142209Z
DTSTART;VALUE=DATE:20250131
DTEND;VALUE=DATE:20250201
SUMMARY: Privatheit\, gender und die Macht (in) der Öffentlichkeit (Vortrag
 )
DESCRIPTION: 31.1.2025 / Hamburg https://events.mpipriv.de/b?p=gegenwartsde
 batten_mit_Beate_Roessler
X-ALT-DESC;FMTTYPE=text/html: <p>31.1.2025 / Hamburg</p><p><a href="https:/
 /events.mpipriv.de/b?p=gegenwartsdebatten_mit_Beate_Roessler">https://event
 s.mpipriv.de/b?p=gegenwartsdebatten_mit_Beate_Roessler</a></p><p>[av_button
  label='iCal-Export' link='./feed/eo-events' link_target='' size='small' po
 sition='center' label_display='' title_attr='' icon_select='yes' icon='ue85
 b' font='entypo-fontello' color='custom' custom_bg='#b5123e' custom_font='#
 ffffff' av_uid='' id='' custom_class='' admin_preview_bg='']</p>
CATEGORIES:Zivilrecht
LOCATION:Inland
GEO:0.000000;0.000000
ORGANIZER;CN="ViFa-Recht":MAILTO:vifa-recht@sbb.spk-berlin.de
URL;VALUE=URI:https://events.intrecht.de/termine/termin/privatheit-gender-u
 nd-die-macht-in-der-oeffentlichkeit-vortrag/
END:VEVENT
BEGIN:VTIMEZONE
TZID:Europe/Berlin
BEGIN:STANDARD
TZOFFSETFROM:+0200
TZOFFSETTO:+0100
DTSTART:20241027T010000
TZNAME:CET
END:STANDARD
END:VTIMEZONE
END:VCALENDAR
