BEGIN:VCALENDAR
VERSION:2.0
PRODID:-//Events | FID-Recht//NONSGML Events//EN
CALSCALE:GREGORIAN
X-ORIGINAL-URL:https://events.intrecht.de/termine/
X-WR-CALDESC:Events | FID-Recht - Events
BEGIN:VEVENT
UID:20210112T0505Z-1610427926.8314-EO-2781-1@172.16.200.141
STATUS:CONFIRMED
DTSTAMP:20260421T115531Z
CREATED:20210111T144245Z
LAST-MODIFIED:20210111T144303Z
DTSTART;TZID=Europe/Berlin:20210111T150000
DTEND;TZID=Europe/Berlin:20210111T160000
SUMMARY: Privates oder öffentliches Recht? Zur Rechtsnatur der kapitalmarkt
 rechtlichen Wohlverhaltenspflichten in §§ 63 ff. WpHG (mit Martin Bialluch)
  (Online-Vortrag)
DESCRIPTION: 11.1.2021\, Online Konzil 11.01.2021 | Max-Planck-Institut für
  ausländisches und internationales Privatrecht (mpipriv.de)  
X-ALT-DESC;FMTTYPE=text/html: <p>11.1.2021\, Online</p><p><a href="https://
 www.mpipriv.de/events/26951/2371">Konzil 11.01.2021 | Max-Planck-Institut f
 ür ausländisches und internationales Privatrecht (mpipriv.de)</a></p><p> </
 p><p>[av_button label='iCal-Export' link='./feed/eo-events' link_target='' 
 size='small' position='center' label_display='' title_attr='' icon_select='
 yes' icon='ue85b' font='entypo-fontello' color='custom' custom_bg='#b5123e'
  custom_font='#ffffff' av_uid='' id='' custom_class='' admin_preview_bg='']
 </p>
CATEGORIES:Öffentliches Recht,Zivilrecht
LOCATION:Online
GEO:0.000000;0.000000
ORGANIZER;CN="ViFa-Recht":MAILTO:vifa-recht@sbb.spk-berlin.de
URL;VALUE=URI:https://events.intrecht.de/termine/termin/privates-oder-oeffe
 ntliches-recht-zur-rechtsnatur-der-kapitalmarktrechtlichen-wohlverhaltenspf
 lichten-in-%c2%a7%c2%a7-63-ff-wphg-mit-martin-bialluch-online-vortrag/
END:VEVENT
BEGIN:VTIMEZONE
TZID:Europe/Berlin
BEGIN:STANDARD
TZOFFSETFROM:+0200
TZOFFSETTO:+0100
DTSTART:20201025T010000
TZNAME:CET
END:STANDARD
END:VTIMEZONE
END:VCALENDAR
