BEGIN:VCALENDAR
VERSION:2.0
PRODID:-//Events | FID-Recht//NONSGML Events//EN
CALSCALE:GREGORIAN
X-ORIGINAL-URL:https://events.intrecht.de/termine/
X-WR-CALDESC:Events | FID-Recht - Events
BEGIN:VEVENT
UID:20210814T2324Z-1628983440.0074-EO-4353-1@172.16.200.141
STATUS:CONFIRMED
DTSTAMP:20260421T133857Z
CREATED:20210811T190459Z
LAST-MODIFIED:20210811T190459Z
DTSTART;VALUE=DATE:20210806
DTEND;VALUE=DATE:20210807
SUMMARY: Private Remedy for Breaches of International Law Norms (mit Vasuda
  Sinha) (Online-Vortrag)
DESCRIPTION: 6.8.2021\, Online Private Law Remedy for Breaches of Internati
 onal Law Norms Tickets\, Fri 6 Aug 2021 at 16:30 | Eventbrite  
X-ALT-DESC;FMTTYPE=text/html: <p>6.8.2021\, Online</p><p><a href="https://w
 ww.eventbrite.co.uk/e/private-law-remedy-for-breaches-of-international-law-
 norms-tickets-164448390563">Private Law Remedy for Breaches of Internationa
 l Law Norms Tickets\, Fri 6 Aug 2021 at 16:30 | Eventbrite</a></p><p> </p><
 p>[av_button label='iCal-Export' link='./feed/eo-events' link_target='' siz
 e='small' position='center' label_display='' title_attr='' icon_select='yes
 ' icon='ue85b' font='entypo-fontello' color='custom' custom_bg='#b5123e' cu
 stom_font='#ffffff' av_uid='' id='' custom_class='' admin_preview_bg='']</p
 >
CATEGORIES:Europäisches / Internationales Recht,Zivilrecht
LOCATION:Online
GEO:0.000000;0.000000
ORGANIZER;CN="ViFa-Recht":MAILTO:vifa-recht@sbb.spk-berlin.de
URL;VALUE=URI:https://events.intrecht.de/termine/termin/private-remedy-for-
 breaches-of-international-law-norms-mit-vasuda-sinha-online-vortrag/
END:VEVENT
BEGIN:VTIMEZONE
TZID:Europe/Berlin
BEGIN:DAYLIGHT
TZOFFSETFROM:+0100
TZOFFSETTO:+0200
DTSTART:20210328T010000
TZNAME:CEST
END:DAYLIGHT
END:VTIMEZONE
END:VCALENDAR
