BEGIN:VCALENDAR
VERSION:2.0
PRODID:-//Events | FID-Recht//NONSGML Events//EN
CALSCALE:GREGORIAN
X-ORIGINAL-URL:https://events.intrecht.de/termine/
X-WR-CALDESC:Events | FID-Recht - Events
BEGIN:VEVENT
UID:20220610T1703Z-1654880590.8626-EO-7080-1@172.16.200.151
STATUS:CONFIRMED
DTSTAMP:20260419T182609Z
CREATED:20220609T170514Z
LAST-MODIFIED:20220609T170514Z
DTSTART;VALUE=DATE:20210816
DTEND;VALUE=DATE:20210816
SUMMARY: Private Law and the State (Obligations X Conference) (CfP)
DESCRIPTION: 11.-14.7.2023\, Banff (Kanada) (Frist für Einreichungen: 16.8.
 2021) X — Obligations Conference (obsconf.com)  
X-ALT-DESC;FMTTYPE=text/html: <p>11.-14.7.2023\, Banff (Kanada) (Frist für 
 Einreichungen: 16.8.2021)</p><p><a href="https://www.obsconf.com/obsx">X — 
 Obligations Conference (obsconf.com)</a></p><p> </p><p>[av_button label='iC
 al-Export' link='./feed/eo-events' link_target='' size='small' position='ce
 nter' label_display='' title_attr='' icon_select='yes' icon='ue85b' font='e
 ntypo-fontello' color='custom' custom_bg='#b5123e' custom_font='#ffffff' av
 _uid='' id='' custom_class='' admin_preview_bg='']</p>
CATEGORIES:Zivilrecht
LOCATION:Ausland
GEO:0.000000;0.000000
ORGANIZER;CN="ViFa-Recht":MAILTO:vifa-recht@sbb.spk-berlin.de
URL;VALUE=URI:https://events.intrecht.de/termine/termin/private-law-and-the
 -state-obligations-x-conference-cfp/
END:VEVENT
BEGIN:VTIMEZONE
TZID:Europe/Berlin
BEGIN:DAYLIGHT
TZOFFSETFROM:+0100
TZOFFSETTO:+0200
DTSTART:20210328T010000
TZNAME:CEST
END:DAYLIGHT
END:VTIMEZONE
END:VCALENDAR
