BEGIN:VCALENDAR
VERSION:2.0
PRODID:-//Events | FID-Recht//NONSGML Events//EN
CALSCALE:GREGORIAN
X-ORIGINAL-URL:https://events.intrecht.de/termine/
X-WR-CALDESC:Events | FID-Recht - Events
BEGIN:VEVENT
UID:20200914T0558Z-1600063139.926-EO-1470-1@172.16.200.141
STATUS:CONFIRMED
DTSTAMP:20260423T005157Z
CREATED:20200901T120905Z
LAST-MODIFIED:20200901T120905Z
DTSTART;VALUE=DATE:20201118
DTEND;VALUE=DATE:20201121
SUMMARY: Private International Law in the current international climate (XL
 III Seminar of the Mexican Academy of Private International and Comparative
  Law\, AMEDIP) (Konferenz)
DESCRIPTION: 18.-20.11.2020\, Online https://7381afec-8126-4960-8fd6-cea65a
 d1e95a.filesusr.com/ugd/0a74e2_a5f49790d3bb4d85a0bafc88a6cfdd60.pdf    
X-ALT-DESC;FMTTYPE=text/html: <p>18.-20.11.2020\, Online</p><p><a href="htt
 ps://7381afec-8126-4960-8fd6-cea65ad1e95a.filesusr.com/ugd/0a74e2_a5f49790d
 3bb4d85a0bafc88a6cfdd60.pdf">https://7381afec-8126-4960-8fd6-cea65ad1e95a.f
 ilesusr.com/ugd/0a74e2_a5f49790d3bb4d85a0bafc88a6cfdd60.pdf</a></p><p><stro
 ng> </strong></p><p> </p><p>[av_button label='iCal-Export' link='./feed/eo-
 events' link_target='' size='small' position='center' label_display='' titl
 e_attr='' icon_select='yes' icon='ue85b' font='entypo-fontello' color='cust
 om' custom_bg='#b5123e' custom_font='#ffffff' av_uid='' id='' custom_class=
 '' admin_preview_bg='']</p>
CATEGORIES:Zivilrecht
ORGANIZER;CN="ViFa-Recht":MAILTO:vifa-recht@sbb.spk-berlin.de
URL;VALUE=URI:https://events.intrecht.de/termine/termin/private-internation
 al-law-in-the-current-international-climate-xliii-seminar-of-the-mexican-ac
 ademy-of-private-international-and-comparative-law-amedip-konferenz/
END:VEVENT
BEGIN:VTIMEZONE
TZID:Europe/Berlin
BEGIN:STANDARD
TZOFFSETFROM:+0200
TZOFFSETTO:+0100
DTSTART:20201025T010000
TZNAME:CET
END:STANDARD
END:VTIMEZONE
END:VCALENDAR
