BEGIN:VCALENDAR
VERSION:2.0
PRODID:-//Events | FID-Recht//NONSGML Events//EN
CALSCALE:GREGORIAN
X-ORIGINAL-URL:https://events.intrecht.de/termine/
X-WR-CALDESC:Events | FID-Recht - Events
BEGIN:VEVENT
UID:20200913T0106Z-1599959192.1459-EO-1473-1@172.16.200.141
STATUS:CONFIRMED
DTSTAMP:20260423T004754Z
CREATED:20200901T121039Z
LAST-MODIFIED:20200901T122028Z
DTSTART;VALUE=DATE:20200906
DTEND;VALUE=DATE:20200907
SUMMARY: Private International Law in the current international climate (XL
 III Seminar of the Mexican Academy of Private International and Comparative
  Law\, AMEDIP) (Call)
DESCRIPTION: 18.-20.11.2020\, Online  https://7381afec-8126-4960-8fd6-cea65
 ad1e95a.filesusr.com/ugd/0a74e2_a5f49790d3bb4d85a0bafc88a6cfdd60.pdf    
X-ALT-DESC;FMTTYPE=text/html: <p><span style="display: inline !important\; 
 float: none\; background-color: #ffffff\; color: #333333\; cursor: text\; f
 ont-family: Georgia\,'Times New Roman'\,'Bitstream Charter'\,Times\,serif\;
  font-size: 16px\; font-style: normal\; font-variant: normal\; font-weight:
  400\; letter-spacing: normal\; orphans: 2\; text-align: left\; text-decora
 tion: none\; text-indent: 0px\; text-transform: none\; -webkit-text-stroke-
 width: 0px\; white-space: normal\; word-spacing: 0px\;">18.-20.11.2020\, On
 line </span></p><p><a href="https://7381afec-8126-4960-8fd6-cea65ad1e95a.fi
 lesusr.com/ugd/0a74e2_a5f49790d3bb4d85a0bafc88a6cfdd60.pdf">https://7381afe
 c-8126-4960-8fd6-cea65ad1e95a.filesusr.com/ugd/0a74e2_a5f49790d3bb4d85a0baf
 c88a6cfdd60.pdf</a></p><p><strong> </strong></p><p> </p><p>[av_button label
 ='iCal-Export' link='./feed/eo-events' link_target='' size='small' position
 ='center' label_display='' title_attr='' icon_select='yes' icon='ue85b' fon
 t='entypo-fontello' color='custom' custom_bg='#b5123e' custom_font='#ffffff
 ' av_uid='' id='' custom_class='' admin_preview_bg='']</p>
CATEGORIES:Zivilrecht
LOCATION:Online
GEO:0.000000;0.000000
ORGANIZER;CN="ViFa-Recht":MAILTO:vifa-recht@sbb.spk-berlin.de
URL;VALUE=URI:https://events.intrecht.de/termine/termin/private-internation
 al-law-in-the-current-international-climate-xliii-seminar-of-the-mexican-ac
 ademy-of-private-international-and-comparative-law-amedip-konferenz-2/
END:VEVENT
BEGIN:VTIMEZONE
TZID:Europe/Berlin
BEGIN:DAYLIGHT
TZOFFSETFROM:+0100
TZOFFSETTO:+0200
DTSTART:20200329T010000
TZNAME:CEST
END:DAYLIGHT
END:VTIMEZONE
END:VCALENDAR
