BEGIN:VCALENDAR
VERSION:2.0
PRODID:-//Events | FID-Recht//NONSGML Events//EN
CALSCALE:GREGORIAN
X-ORIGINAL-URL:https://events.intrecht.de/termine/
X-WR-CALDESC:Events | FID-Recht - Events
BEGIN:VEVENT
UID:20200602T0945Z-1591091115.9737-EO-599-1@172.16.200.141
STATUS:CONFIRMED
DTSTAMP:20260423T040836Z
CREATED:20260413T102248Z
LAST-MODIFIED:20260413T102248Z
DTSTART;VALUE=DATE:20260429
DTEND;VALUE=DATE:20260430
SUMMARY: Private International Law in International Investment Contracts (V
 irtual Workshop)
DESCRIPTION: 29.4.2026 / Online https://events.mpipriv.de/b?p=mpi_asadip_tr
 ialogues_with_jose_antonio_moreno_rodriguez
X-ALT-DESC;FMTTYPE=text/html: <p>29.4.2026 / Online</p><p><a href="https://
 events.mpipriv.de/b?p=mpi_asadip_trialogues_with_jose_antonio_moreno_rodrig
 uez">https://events.mpipriv.de/b?p=mpi_asadip_trialogues_with_jose_antonio_
 moreno_rodriguez</a></p><p>[av_button label='iCal-Export' link='./feed/eo-e
 vents' link_target='' size='small' position='center' label_display='' title
 _attr='' icon_select='yes' icon='ue85b' font='entypo-fontello' color='custo
 m' custom_bg='#b5123e' custom_font='#ffffff' av_uid='' id='' custom_class='
 ' admin_preview_bg='']</p>
CATEGORIES:Zivilrecht
LOCATION:Online
GEO:0.000000;0.000000
ORGANIZER;CN="ViFa-Recht":MAILTO:vifa-recht@sbb.spk-berlin.de
URL;VALUE=URI:https://events.intrecht.de/termine/termin/private-internation
 al-law-in-international-investment-contracts-virtual-workshop/
END:VEVENT
BEGIN:VTIMEZONE
TZID:Europe/Berlin
BEGIN:DAYLIGHT
TZOFFSETFROM:+0100
TZOFFSETTO:+0200
DTSTART:20260329T010000
TZNAME:CEST
END:DAYLIGHT
END:VTIMEZONE
END:VCALENDAR
