BEGIN:VCALENDAR
VERSION:2.0
PRODID:-//Events | FID-Recht//NONSGML Events//EN
CALSCALE:GREGORIAN
X-ORIGINAL-URL:https://events.intrecht.de/termine/
X-WR-CALDESC:Events | FID-Recht - Events
BEGIN:VEVENT
UID:20220813T1038Z-1660387102.0055-EO-4848-1@172.16.200.151
STATUS:CONFIRMED
DTSTAMP:20260420T112651Z
CREATED:20220808T190229Z
LAST-MODIFIED:20220808T190229Z
DTSTART;VALUE=DATE:20220516
DTEND;VALUE=DATE:20220518
SUMMARY: Private International Law Festival (Tagung)
DESCRIPTION: 16.-17.5.2022\, Edinburgh https://www.law.ed.ac.uk/news-events
 /events/private-international-law-festival  
X-ALT-DESC;FMTTYPE=text/html: <p>16.-17.5.2022\, Edinburgh</p><p><a href="h
 ttps://www.law.ed.ac.uk/news-events/events/private-international-law-festiv
 al">https://www.law.ed.ac.uk/news-events/events/private-international-law-f
 estival</a></p><p> </p><p>[av_button label='iCal-Export' link='./feed/eo-ev
 ents' link_target='' size='small' position='center' label_display='' title_
 attr='' icon_select='yes' icon='ue85b' font='entypo-fontello' color='custom
 ' custom_bg='#b5123e' custom_font='#ffffff' av_uid='' id='' custom_class=''
  admin_preview_bg='']</p>
CATEGORIES:Zivilrecht
LOCATION:Ausland
GEO:0.000000;0.000000
ORGANIZER;CN="ViFa-Recht":MAILTO:vifa-recht@sbb.spk-berlin.de
URL;VALUE=URI:https://events.intrecht.de/termine/termin/private-internation
 al-law-festival-tagung/
END:VEVENT
BEGIN:VTIMEZONE
TZID:Europe/Berlin
BEGIN:DAYLIGHT
TZOFFSETFROM:+0100
TZOFFSETTO:+0200
DTSTART:20220327T010000
TZNAME:CEST
END:DAYLIGHT
END:VTIMEZONE
END:VCALENDAR
