BEGIN:VCALENDAR
VERSION:2.0
PRODID:-//Events | FID-Recht//NONSGML Events//EN
CALSCALE:GREGORIAN
X-ORIGINAL-URL:https://events.intrecht.de/termine/
X-WR-CALDESC:Events | FID-Recht - Events
BEGIN:VEVENT
UID:20200603T1418Z-1591193923.3362-EO-587-1@172.16.200.141
STATUS:CONFIRMED
DTSTAMP:20260422T232006Z
CREATED:20240223T133713Z
LAST-MODIFIED:20240223T133713Z
DTSTART;VALUE=DATE:20240606
DTEND;VALUE=DATE:20240609
SUMMARY: Private International Law and Global Crises (2024 EAPIL Conference
 )
DESCRIPTION: 6.-8.6.2024 / Breslau https://eapil2024wroclaw.uwr.edu.pl/prog
 ramme/
X-ALT-DESC;FMTTYPE=text/html: <p>6.-8.6.2024 / Breslau</p><p><a href="https
 ://eapil2024wroclaw.uwr.edu.pl/programme/">https://eapil2024wroclaw.uwr.edu
 .pl/programme/</a></p><p>[av_button label='iCal-Export' link='./feed/eo-eve
 nts' link_target='' size='small' position='center' label_display='' title_a
 ttr='' icon_select='yes' icon='ue85b' font='entypo-fontello' color='custom'
  custom_bg='#b5123e' custom_font='#ffffff' av_uid='' id='' custom_class='' 
 admin_preview_bg='']</p>
CATEGORIES:Zivilrecht
LOCATION:Ausland
GEO:0.000000;0.000000
ORGANIZER;CN="ViFa-Recht":MAILTO:vifa-recht@sbb.spk-berlin.de
URL;VALUE=URI:https://events.intrecht.de/termine/termin/private-internation
 al-law-and-global-crises-2024-eapil-conference/
END:VEVENT
BEGIN:VTIMEZONE
TZID:Europe/Berlin
BEGIN:DAYLIGHT
TZOFFSETFROM:+0100
TZOFFSETTO:+0200
DTSTART:20240331T010000
TZNAME:CEST
END:DAYLIGHT
END:VTIMEZONE
END:VCALENDAR
