BEGIN:VCALENDAR
VERSION:2.0
PRODID:-//Events | FID-Recht//NONSGML Events//EN
CALSCALE:GREGORIAN
X-ORIGINAL-URL:https://events.intrecht.de/termine/
X-WR-CALDESC:Events | FID-Recht - Events
BEGIN:VEVENT
UID:20201216T1252Z-1608123125.659-EO-2423-1@172.16.200.141
STATUS:CONFIRMED
DTSTAMP:20260425T211531Z
CREATED:20201124T182913Z
LAST-MODIFIED:20201124T183059Z
DTSTART;VALUE=DATE:20210111
DTEND;VALUE=DATE:20210112
SUMMARY: Prevention and Guarantees of Non-Recurrence – The Role of Transiti
 onal Justice (Online-Intensivkurs) (CfA)
DESCRIPTION: 1.-5.2.2021\, Online (Bewerbungsfrist: 11.1.2021) https://www.
 ictj.org/event/2020-intensive-course-prevention-and-guarantees-non-recurren
 ce-role-transitional-justice  
X-ALT-DESC;FMTTYPE=text/html: <p>1.-5.2.2021\, Online (Bewerbungsfrist: 11.
 1.2021)</p><p><a href="https://www.ictj.org/event/2020-intensive-course-pre
 vention-and-guarantees-non-recurrence-role-transitional-justice">https://ww
 w.ictj.org/event/2020-intensive-course-prevention-and-guarantees-non-recurr
 ence-role-transitional-justice</a></p><p> </p><p>[av_button label='iCal-Exp
 ort' link='./feed/eo-events' link_target='' size='small' position='center' 
 label_display='' title_attr='' icon_select='yes' icon='ue85b' font='entypo-
 fontello' color='custom' custom_bg='#b5123e' custom_font='#ffffff' av_uid='
 ' id='' custom_class='' admin_preview_bg='']</p>
CATEGORIES:Europäisches / Internationales Recht
LOCATION:Online
GEO:0.000000;0.000000
ORGANIZER;CN="ViFa-Recht":MAILTO:vifa-recht@sbb.spk-berlin.de
URL;VALUE=URI:https://events.intrecht.de/termine/termin/prevention-and-guar
 antees-of-non-recurrence-the-role-of-transitional-justice-online-intensivku
 rs-cfa/
END:VEVENT
BEGIN:VTIMEZONE
TZID:Europe/Berlin
BEGIN:STANDARD
TZOFFSETFROM:+0200
TZOFFSETTO:+0100
DTSTART:20201025T010000
TZNAME:CET
END:STANDARD
END:VTIMEZONE
END:VCALENDAR
