BEGIN:VCALENDAR
VERSION:2.0
PRODID:-//Events | FID-Recht//NONSGML Events//EN
CALSCALE:GREGORIAN
X-ORIGINAL-URL:https://events.intrecht.de/termine/
X-WR-CALDESC:Events | FID-Recht - Events
BEGIN:VEVENT
UID:20200603T1418Z-1591193923.3362-EO-587-1@172.16.200.141
STATUS:CONFIRMED
DTSTAMP:20260422T090827Z
CREATED:20231214T114024Z
LAST-MODIFIED:20231214T114024Z
DTSTART;VALUE=DATE:20240131
DTEND;VALUE=DATE:20240201
SUMMARY: Preventing Pollution from the MASS: Implementing the Precautionary
  Principle (Vortrag / Völkerrechtliche Tagesthemen)
DESCRIPTION: 31.1.2024 / Online und Kiel https://www.wsi.uni-kiel.de/de/ver
 anstaltungen/voelkerrechtliche-tagesthemen/voelkerrechtliche-tagesthemen-pr
 eventing-pollution-from-the-mass-implementing-the-precautionary-principle-w
 ith-richard-xing
X-ALT-DESC;FMTTYPE=text/html: <p>31.1.2024 / Online und Kiel</p><p><a href=
 "https://www.wsi.uni-kiel.de/de/veranstaltungen/voelkerrechtliche-tagesthem
 en/voelkerrechtliche-tagesthemen-preventing-pollution-from-the-mass-impleme
 nting-the-precautionary-principle-with-richard-xing">https://www.wsi.uni-ki
 el.de/de/veranstaltungen/voelkerrechtliche-tagesthemen/voelkerrechtliche-ta
 gesthemen-preventing-pollution-from-the-mass-implementing-the-precautionary
 -principle-with-richard-xing</a></p><p>[av_button label='iCal-Export' link=
 './feed/eo-events' link_target='' size='small' position='center' label_disp
 lay='' title_attr='' icon_select='yes' icon='ue85b' font='entypo-fontello' 
 color='custom' custom_bg='#b5123e' custom_font='#ffffff' av_uid='' id='' cu
 stom_class='' admin_preview_bg='']</p>
CATEGORIES:Europäisches / Internationales Recht
LOCATION:Online
GEO:0.000000;0.000000
ORGANIZER;CN="ViFa-Recht":MAILTO:vifa-recht@sbb.spk-berlin.de
URL;VALUE=URI:https://events.intrecht.de/termine/termin/preventing-pollutio
 n-from-the-mass-implementing-the-precautionary-principle-vortrag-voelkerrec
 htliche-tagesthemen/
END:VEVENT
BEGIN:VTIMEZONE
TZID:Europe/Berlin
BEGIN:STANDARD
TZOFFSETFROM:+0200
TZOFFSETTO:+0100
DTSTART:20231029T010000
TZNAME:CET
END:STANDARD
END:VTIMEZONE
END:VCALENDAR
