BEGIN:VCALENDAR
VERSION:2.0
PRODID:-//Events | FID-Recht//NONSGML Events//EN
CALSCALE:GREGORIAN
X-ORIGINAL-URL:https://events.intrecht.de/termine/
X-WR-CALDESC:Events | FID-Recht - Events
BEGIN:VEVENT
UID:20200603T1418Z-1591193923.3362-EO-587-1@172.16.200.141
STATUS:CONFIRMED
DTSTAMP:20260422T225003Z
CREATED:20250507T100038Z
LAST-MODIFIED:20250507T100038Z
DTSTART;VALUE=DATE:20250606
DTEND;VALUE=DATE:20250607
SUMMARY: Present human rights challenges in Europe and beyond (Hybrid Confe
 rence)
DESCRIPTION: 6.6.2025 / Online und Innsbruck https://www.uibk.ac.at/de/even
 ts/info/2025/present-human-rights-challenges-in-europe-and-beyond/
X-ALT-DESC;FMTTYPE=text/html: <p>6.6.2025 / Online und Innsbruck</p><p><a h
 ref="https://www.uibk.ac.at/de/events/info/2025/present-human-rights-challe
 nges-in-europe-and-beyond/">https://www.uibk.ac.at/de/events/info/2025/pres
 ent-human-rights-challenges-in-europe-and-beyond/</a></p><p>[av_button labe
 l='iCal-Export' link='./feed/eo-events' link_target='' size='small' positio
 n='center' label_display='' title_attr='' icon_select='yes' icon='ue85b' fo
 nt='entypo-fontello' color='custom' custom_bg='#b5123e' custom_font='#fffff
 f' av_uid='' id='' custom_class='' admin_preview_bg='']</p>
CATEGORIES:Europäisches / Internationales Recht
LOCATION:Hybrid
GEO:0.000000;0.000000
ORGANIZER;CN="ViFa-Recht":MAILTO:vifa-recht@sbb.spk-berlin.de
URL;VALUE=URI:https://events.intrecht.de/termine/termin/present-human-right
 s-challenges-in-europe-and-beyond-hybrid-conference/
END:VEVENT
BEGIN:VTIMEZONE
TZID:Europe/Berlin
BEGIN:DAYLIGHT
TZOFFSETFROM:+0100
TZOFFSETTO:+0200
DTSTART:20250330T010000
TZNAME:CEST
END:DAYLIGHT
END:VTIMEZONE
END:VCALENDAR
