BEGIN:VCALENDAR
VERSION:2.0
PRODID:-//Events | FID-Recht//NONSGML Events//EN
CALSCALE:GREGORIAN
X-ORIGINAL-URL:https://events.intrecht.de/termine/
X-WR-CALDESC:Events | FID-Recht - Events
BEGIN:VEVENT
UID:20220311T0357Z-1646971040.3833-EO-6280-1@172.16.200.141
STATUS:CONFIRMED
DTSTAMP:20260421T102821Z
CREATED:20220307T115830Z
LAST-MODIFIED:20220307T115830Z
DTSTART;VALUE=DATE:20220322
DTEND;VALUE=DATE:20220323
SUMMARY: Prensa e conhecimento normativo no Brasil do século XIX – o caso d
 a Gazeta dos Tribunais (1843-1846) (Online-Vortrag)
DESCRIPTION: 22.3.2022\, Online Prensa e conhecimento normativo | Max-Planc
 k-Institut für Rechtsgeschichte und Rechtstheorie (mpg.de)  
X-ALT-DESC;FMTTYPE=text/html: <p>22.3.2022\, Online</p><p><a href="https://
 www.lhlt.mpg.de/2719929/event-22-03-22-prensa-e-conhecimento.html">Prensa e
  conhecimento normativo | Max-Planck-Institut für Rechtsgeschichte und Rech
 tstheorie (mpg.de)</a></p><p> </p><p>[av_button label='iCal-Export' link='.
 /feed/eo-events' link_target='' size='small' position='center' label_displa
 y='' title_attr='' icon_select='yes' icon='ue85b' font='entypo-fontello' co
 lor='custom' custom_bg='#b5123e' custom_font='#ffffff' av_uid='' id='' cust
 om_class='' admin_preview_bg='']</p>
CATEGORIES:Recht interdisziplinär
LOCATION:Online
GEO:0.000000;0.000000
ORGANIZER;CN="ViFa-Recht":MAILTO:vifa-recht@sbb.spk-berlin.de
URL;VALUE=URI:https://events.intrecht.de/termine/termin/prensa-e-conhecimen
 to-normativo-no-brasil-do-seculo-xix-o-caso-da-gazeta-dos-tribunais-1843-18
 46-online-vortrag/
END:VEVENT
BEGIN:VTIMEZONE
TZID:Europe/Berlin
BEGIN:STANDARD
TZOFFSETFROM:+0200
TZOFFSETTO:+0100
DTSTART:20211031T010000
TZNAME:CET
END:STANDARD
END:VTIMEZONE
END:VCALENDAR
