BEGIN:VCALENDAR
VERSION:2.0
PRODID:-//Events | FID-Recht//NONSGML Events//EN
CALSCALE:GREGORIAN
X-ORIGINAL-URL:https://events.intrecht.de/termine/
X-WR-CALDESC:Events | FID-Recht - Events
BEGIN:VEVENT
UID:20200603T1418Z-1591193923.3362-EO-587-1@172.16.200.141
STATUS:CONFIRMED
DTSTAMP:20260425T132612Z
CREATED:20230306T132709Z
LAST-MODIFIED:20230306T132709Z
DTSTART;VALUE=DATE:20231012
DTEND;VALUE=DATE:20231014
SUMMARY: Precarious Constitutionalism: The Ambiguities of Liberal Orders an
 d the Rise of Illiberalism in Central Europe and Latin America (Konferenz)
DESCRIPTION: 12.-13.10.2023 / Prag (Frist für Einreichungen: 20.3.2023) htt
 ps://il-liberal.uni-jena.de/call-for-papers-precarious-constitutionalism-th
 e-ambiguities-of-liberal-orders-and-the-rise-of-illiberalism-in-central-eur
 ope-and-latin-america/
X-ALT-DESC;FMTTYPE=text/html: <p>12.-13.10.2023 / Prag <strong>(Frist für E
 inreichungen: 20.3.2023)</strong></p><p><a href="https://il-liberal.uni-jen
 a.de/call-for-papers-precarious-constitutionalism-the-ambiguities-of-libera
 l-orders-and-the-rise-of-illiberalism-in-central-europe-and-latin-america/"
 >https://il-liberal.uni-jena.de/call-for-papers-precarious-constitutionalis
 m-the-ambiguities-of-liberal-orders-and-the-rise-of-illiberalism-in-central
 -europe-and-latin-america/</a></p><p>[av_button label='iCal-Export' link='.
 /feed/eo-events' link_target='' size='small' position='center' label_displa
 y='' title_attr='' icon_select='yes' icon='ue85b' font='entypo-fontello' co
 lor='custom' custom_bg='#b5123e' custom_font='#ffffff' av_uid='' id='' cust
 om_class='' admin_preview_bg='']</p>
CATEGORIES:Recht interdisziplinär
LOCATION:Ausland
GEO:0.000000;0.000000
ORGANIZER;CN="ViFa-Recht":MAILTO:vifa-recht@sbb.spk-berlin.de
URL;VALUE=URI:https://events.intrecht.de/termine/termin/precarious-constitu
 tionalism-the-ambiguities-of-liberal-orders-and-the-rise-of-illiberalism-in
 -central-europe-and-latin-america-konferenz/
END:VEVENT
BEGIN:VTIMEZONE
TZID:Europe/Berlin
BEGIN:DAYLIGHT
TZOFFSETFROM:+0100
TZOFFSETTO:+0200
DTSTART:20230326T010000
TZNAME:CEST
END:DAYLIGHT
END:VTIMEZONE
END:VCALENDAR
