BEGIN:VCALENDAR
VERSION:2.0
PRODID:-//Events | FID-Recht//NONSGML Events//EN
CALSCALE:GREGORIAN
X-ORIGINAL-URL:https://events.intrecht.de/termine/
X-WR-CALDESC:Events | FID-Recht - Events
BEGIN:VEVENT
UID:20230420T1533Z-1682004805.5519-EO-8262-1@172.16.200.151
STATUS:CONFIRMED
DTSTAMP:20260425T122043Z
CREATED:20230206T114844Z
LAST-MODIFIED:20230206T114844Z
DTSTART;VALUE=DATE:20230830
DTEND;VALUE=DATE:20230831
SUMMARY: Pre-workshop to 2023 ESIL Annual Conference: The De-legalization o
 f International Law: Social Science Perspective
DESCRIPTION: 30.8.2023 / Aix-en-Provence (Frist für Einreichungen: 10.4.202
 3) https://esil-sedi.eu/wp-content/uploads/2023/01/CfP-ESIL-IG-Social-Scien
 ces-and-International-Law-workshop_ESIL2023.pdf  
X-ALT-DESC;FMTTYPE=text/html: <p>30.8.2023 / Aix-en-Provence <strong>(Frist
  für Einreichungen: 10.4.2023)</strong></p><p><a href="https://esil-sedi.eu
 /wp-content/uploads/2023/01/CfP-ESIL-IG-Social-Sciences-and-International-L
 aw-workshop_ESIL2023.pdf">https://esil-sedi.eu/wp-content/uploads/2023/01/C
 fP-ESIL-IG-Social-Sciences-and-International-Law-workshop_ESIL2023.pdf</a><
 /p><p> </p><p>[av_button label='iCal-Export' link='./feed/eo-events' link_t
 arget='' size='small' position='center' label_display='' title_attr='' icon
 _select='yes' icon='ue85b' font='entypo-fontello' color='custom' custom_bg=
 '#b5123e' custom_font='#ffffff' av_uid='' id='' custom_class='' admin_previ
 ew_bg='']</p>
CATEGORIES:Europäisches / Internationales Recht
LOCATION:Ausland
GEO:0.000000;0.000000
ORGANIZER;CN="ViFa-Recht":MAILTO:vifa-recht@sbb.spk-berlin.de
URL;VALUE=URI:https://events.intrecht.de/termine/termin/pre-workshop-to-202
 3-esil-annual-conference-the-de-legalization-of-international-law-social-sc
 ience-perspective/
END:VEVENT
BEGIN:VTIMEZONE
TZID:Europe/Berlin
BEGIN:DAYLIGHT
TZOFFSETFROM:+0100
TZOFFSETTO:+0200
DTSTART:20230326T010000
TZNAME:CEST
END:DAYLIGHT
END:VTIMEZONE
END:VCALENDAR
