BEGIN:VCALENDAR
VERSION:2.0
PRODID:-//Events | FID-Recht//NONSGML Events//EN
CALSCALE:GREGORIAN
X-ORIGINAL-URL:https://events.intrecht.de/termine/
X-WR-CALDESC:Events | FID-Recht - Events
BEGIN:VEVENT
UID:20200603T1418Z-1591193923.3362-EO-587-1@172.16.200.141
STATUS:CONFIRMED
DTSTAMP:20260422T141618Z
CREATED:20240405T093003Z
LAST-MODIFIED:20240405T093003Z
DTSTART;VALUE=DATE:20241024
DTEND;VALUE=DATE:20241027
SUMMARY: Powerless law or law for the powerless? (Conference / Internationa
 l Law Weekend 2024 (ILW 2024))
DESCRIPTION: 24.-26.10.2024 / New York City (Einreichungsfrist: 15.4.2024) 
 https://www.ila-americanbranch.org/ilw-2024-call-for-panel-proposals/
X-ALT-DESC;FMTTYPE=text/html: <p>24.-26.10.2024 / New York City <strong>(Ei
 nreichungsfrist: 15.4.2024)</strong></p><p><a href="https://www.ila-america
 nbranch.org/ilw-2024-call-for-panel-proposals/">https://www.ila-americanbra
 nch.org/ilw-2024-call-for-panel-proposals/</a></p><p>[av_button label='iCal
 -Export' link='./feed/eo-events' link_target='' size='small' position='cent
 er' label_display='' title_attr='' icon_select='yes' icon='ue85b' font='ent
 ypo-fontello' color='custom' custom_bg='#b5123e' custom_font='#ffffff' av_u
 id='' id='' custom_class='' admin_preview_bg='']</p>
CATEGORIES:Europäisches / Internationales Recht
LOCATION:Ausland
GEO:0.000000;0.000000
ORGANIZER;CN="ViFa-Recht":MAILTO:vifa-recht@sbb.spk-berlin.de
URL;VALUE=URI:https://events.intrecht.de/termine/termin/powerless-law-or-la
 w-for-the-powerless-conference-international-law-weekend-2024-ilw-2024/
END:VEVENT
BEGIN:VTIMEZONE
TZID:Europe/Berlin
BEGIN:DAYLIGHT
TZOFFSETFROM:+0100
TZOFFSETTO:+0200
DTSTART:20240331T010000
TZNAME:CEST
END:DAYLIGHT
END:VTIMEZONE
END:VCALENDAR
